BEGIN:VCALENDAR
VERSION:2.0
PRODID:-//achurchnearyou.com//eventfeed//EN
CALSCALE:GREGORIAN
METHOD:PUBLISH
X-WR-TIMEZONE:UTC
BEGIN:VEVENT
SUMMARY:Service of Lessons and Carols
DTSTART:20251221T180000Z
DTEND:20251221T190000Z
DTSTAMP:20260423T173926Z
UID:12711142025-12-21 18:00:00+00:00achurchnearyou
CATEGORIES:
DESCRIPTION:Lessons and Carols by Candlelight as we recreate the Christmas
  Story through word and music. Refreshments will be served after the servi
 ce
GEO:-2.539172;49.492855
LOCATION:St Michel du Valle (Vale Church)
URL:https://www.achurchnearyou.com/church/18549/service-and-events/events/
 1271114/
END:VEVENT
END:VCALENDAR
