BEGIN:VCALENDAR
VERSION:2.0
PRODID:-//achurchnearyou.com//eventfeed//EN
CALSCALE:GREGORIAN
METHOD:PUBLISH
X-WR-TIMEZONE:UTC
BEGIN:VEVENT
SUMMARY:BCP Eucharist
DTSTART;TZID=Europe/London:20260405T080000
DTEND;TZID=Europe/London:20260405T083000
DTSTAMP:20260424T193749Z
UID:1371811775372400.0achurchnearyou
CATEGORIES:
DESCRIPTION:A short Book of Common Prayer on the first Sunday of the month
GEO:-2.614638;49.445319
LOCATION:St Saviour
URL:https://www.achurchnearyou.com/church/18555/service-and-events/events/
 137181/
END:VEVENT
BEGIN:VEVENT
SUMMARY:Family Eucharist
DTSTART;TZID=Europe/London:20260405T093000
DTEND;TZID=Europe/London:20260405T103000
DTSTAMP:20260424T193749Z
UID:1371831775377800.0achurchnearyou
CATEGORIES:
DESCRIPTION:All-age Family Eucharist
GEO:-2.614638;49.445319
LOCATION:St Saviour
URL:https://www.achurchnearyou.com/church/18555/service-and-events/events/
 137183/
END:VEVENT
BEGIN:VEVENT
SUMMARY:Eucharist
DTSTART;TZID=Europe/London:20260412T093000
DTEND;TZID=Europe/London:20260412T104000
DTSTAMP:20260424T193749Z
UID:1371821775982600.0achurchnearyou
CATEGORIES:
DESCRIPTION:Common Worship Eucharist with Sunday Clubs for 3-16 yr olds
GEO:-2.614638;49.445319
LOCATION:St Saviour
URL:https://www.achurchnearyou.com/church/18555/service-and-events/events/
 137182/
END:VEVENT
BEGIN:VEVENT
SUMMARY:Meditation Service
DTSTART;TZID=Europe/London:20260412T170000
DTEND;TZID=Europe/London:20260412T173000
DTSTAMP:20260424T193749Z
UID:1371841776009600.0achurchnearyou
CATEGORIES:
DESCRIPTION:Service of readings\, prayers\, music and silence - a quiet sp
 ace to end the day
GEO:-2.614638;49.445319
LOCATION:St Saviour
URL:https://www.achurchnearyou.com/church/18555/service-and-events/events/
 137184/
END:VEVENT
BEGIN:VEVENT
SUMMARY:Eucharist
DTSTART;TZID=Europe/London:20260419T093000
DTEND;TZID=Europe/London:20260419T104000
DTSTAMP:20260424T193749Z
UID:1371821776587400.0achurchnearyou
CATEGORIES:
DESCRIPTION:Common Worship Eucharist with Sunday Clubs for 3-16 yr olds
GEO:-2.614638;49.445319
LOCATION:St Saviour
URL:https://www.achurchnearyou.com/church/18555/service-and-events/events/
 137182/
END:VEVENT
BEGIN:VEVENT
SUMMARY:Taize Service
DTSTART;TZID=Europe/London:20260419T170000
DTEND;TZID=Europe/London:20260419T174500
DTSTAMP:20260424T193749Z
UID:6234341776614400.0achurchnearyou
CATEGORIES:
DESCRIPTION:A monthly service following the pattern of the services at Tai
 ze\, France
GEO:-2.614638;49.445319
LOCATION:St Saviour
URL:https://www.achurchnearyou.com/church/18555/service-and-events/events/
 623434/
END:VEVENT
BEGIN:VEVENT
SUMMARY:Eucharist
DTSTART;TZID=Europe/London:20260426T093000
DTEND;TZID=Europe/London:20260426T104000
DTSTAMP:20260424T193749Z
UID:1371821777192200.0achurchnearyou
CATEGORIES:
DESCRIPTION:Common Worship Eucharist with Sunday Clubs for 3-16 yr olds
GEO:-2.614638;49.445319
LOCATION:St Saviour
URL:https://www.achurchnearyou.com/church/18555/service-and-events/events/
 137182/
END:VEVENT
BEGIN:VEVENT
SUMMARY:Meditation Service
DTSTART;TZID=Europe/London:20260426T170000
DTEND;TZID=Europe/London:20260426T173000
DTSTAMP:20260424T193749Z
UID:1371841777219200.0achurchnearyou
CATEGORIES:
DESCRIPTION:Service of readings\, prayers\, music and silence - a quiet sp
 ace to end the day
GEO:-2.614638;49.445319
LOCATION:St Saviour
URL:https://www.achurchnearyou.com/church/18555/service-and-events/events/
 137184/
END:VEVENT
BEGIN:VEVENT
SUMMARY:BCP Eucharist
DTSTART;TZID=Europe/London:20260503T080000
DTEND;TZID=Europe/London:20260503T083000
DTSTAMP:20260424T193749Z
UID:1371811777791600.0achurchnearyou
CATEGORIES:
DESCRIPTION:A short Book of Common Prayer on the first Sunday of the month
GEO:-2.614638;49.445319
LOCATION:St Saviour
URL:https://www.achurchnearyou.com/church/18555/service-and-events/events/
 137181/
END:VEVENT
BEGIN:VEVENT
SUMMARY:Family Eucharist
DTSTART;TZID=Europe/London:20260503T093000
DTEND;TZID=Europe/London:20260503T103000
DTSTAMP:20260424T193749Z
UID:1371831777797000.0achurchnearyou
CATEGORIES:
DESCRIPTION:All-age Family Eucharist
GEO:-2.614638;49.445319
LOCATION:St Saviour
URL:https://www.achurchnearyou.com/church/18555/service-and-events/events/
 137183/
END:VEVENT
BEGIN:VEVENT
SUMMARY:Eucharist
DTSTART;TZID=Europe/London:20260510T093000
DTEND;TZID=Europe/London:20260510T104000
DTSTAMP:20260424T193749Z
UID:1371821778401800.0achurchnearyou
CATEGORIES:
DESCRIPTION:Common Worship Eucharist with Sunday Clubs for 3-16 yr olds
GEO:-2.614638;49.445319
LOCATION:St Saviour
URL:https://www.achurchnearyou.com/church/18555/service-and-events/events/
 137182/
END:VEVENT
BEGIN:VEVENT
SUMMARY:Meditation Service
DTSTART;TZID=Europe/London:20260510T170000
DTEND;TZID=Europe/London:20260510T173000
DTSTAMP:20260424T193749Z
UID:1371841778428800.0achurchnearyou
CATEGORIES:
DESCRIPTION:Service of readings\, prayers\, music and silence - a quiet sp
 ace to end the day
GEO:-2.614638;49.445319
LOCATION:St Saviour
URL:https://www.achurchnearyou.com/church/18555/service-and-events/events/
 137184/
END:VEVENT
BEGIN:VEVENT
SUMMARY:Eucharist
DTSTART;TZID=Europe/London:20260517T093000
DTEND;TZID=Europe/London:20260517T104000
DTSTAMP:20260424T193749Z
UID:1371821779006600.0achurchnearyou
CATEGORIES:
DESCRIPTION:Common Worship Eucharist with Sunday Clubs for 3-16 yr olds
GEO:-2.614638;49.445319
LOCATION:St Saviour
URL:https://www.achurchnearyou.com/church/18555/service-and-events/events/
 137182/
END:VEVENT
BEGIN:VEVENT
SUMMARY:Taize Service
DTSTART;TZID=Europe/London:20260517T170000
DTEND;TZID=Europe/London:20260517T174500
DTSTAMP:20260424T193749Z
UID:6234341779033600.0achurchnearyou
CATEGORIES:
DESCRIPTION:A monthly service following the pattern of the services at Tai
 ze\, France
GEO:-2.614638;49.445319
LOCATION:St Saviour
URL:https://www.achurchnearyou.com/church/18555/service-and-events/events/
 623434/
END:VEVENT
BEGIN:VEVENT
SUMMARY:Eucharist
DTSTART;TZID=Europe/London:20260524T093000
DTEND;TZID=Europe/London:20260524T104000
DTSTAMP:20260424T193749Z
UID:1371821779611400.0achurchnearyou
CATEGORIES:
DESCRIPTION:Common Worship Eucharist with Sunday Clubs for 3-16 yr olds
GEO:-2.614638;49.445319
LOCATION:St Saviour
URL:https://www.achurchnearyou.com/church/18555/service-and-events/events/
 137182/
END:VEVENT
BEGIN:VEVENT
SUMMARY:Meditation Service
DTSTART;TZID=Europe/London:20260524T170000
DTEND;TZID=Europe/London:20260524T173000
DTSTAMP:20260424T193749Z
UID:1371841779638400.0achurchnearyou
CATEGORIES:
DESCRIPTION:Service of readings\, prayers\, music and silence - a quiet sp
 ace to end the day
GEO:-2.614638;49.445319
LOCATION:St Saviour
URL:https://www.achurchnearyou.com/church/18555/service-and-events/events/
 137184/
END:VEVENT
BEGIN:VEVENT
SUMMARY:Eucharist
DTSTART;TZID=Europe/London:20260531T093000
DTEND;TZID=Europe/London:20260531T104000
DTSTAMP:20260424T193749Z
UID:1371821780216200.0achurchnearyou
CATEGORIES:
DESCRIPTION:Common Worship Eucharist with Sunday Clubs for 3-16 yr olds
GEO:-2.614638;49.445319
LOCATION:St Saviour
URL:https://www.achurchnearyou.com/church/18555/service-and-events/events/
 137182/
END:VEVENT
BEGIN:VEVENT
SUMMARY:BCP Eucharist
DTSTART;TZID=Europe/London:20260607T080000
DTEND;TZID=Europe/London:20260607T083000
DTSTAMP:20260424T193749Z
UID:1371811780815600.0achurchnearyou
CATEGORIES:
DESCRIPTION:A short Book of Common Prayer on the first Sunday of the month
GEO:-2.614638;49.445319
LOCATION:St Saviour
URL:https://www.achurchnearyou.com/church/18555/service-and-events/events/
 137181/
END:VEVENT
BEGIN:VEVENT
SUMMARY:Family Eucharist
DTSTART;TZID=Europe/London:20260607T093000
DTEND;TZID=Europe/London:20260607T103000
DTSTAMP:20260424T193749Z
UID:1371831780821000.0achurchnearyou
CATEGORIES:
DESCRIPTION:All-age Family Eucharist
GEO:-2.614638;49.445319
LOCATION:St Saviour
URL:https://www.achurchnearyou.com/church/18555/service-and-events/events/
 137183/
END:VEVENT
BEGIN:VEVENT
SUMMARY:Eucharist
DTSTART;TZID=Europe/London:20260614T093000
DTEND;TZID=Europe/London:20260614T104000
DTSTAMP:20260424T193749Z
UID:1371821781425800.0achurchnearyou
CATEGORIES:
DESCRIPTION:Common Worship Eucharist with Sunday Clubs for 3-16 yr olds
GEO:-2.614638;49.445319
LOCATION:St Saviour
URL:https://www.achurchnearyou.com/church/18555/service-and-events/events/
 137182/
END:VEVENT
BEGIN:VEVENT
SUMMARY:Meditation Service
DTSTART;TZID=Europe/London:20260614T170000
DTEND;TZID=Europe/London:20260614T173000
DTSTAMP:20260424T193749Z
UID:1371841781452800.0achurchnearyou
CATEGORIES:
DESCRIPTION:Service of readings\, prayers\, music and silence - a quiet sp
 ace to end the day
GEO:-2.614638;49.445319
LOCATION:St Saviour
URL:https://www.achurchnearyou.com/church/18555/service-and-events/events/
 137184/
END:VEVENT
BEGIN:VEVENT
SUMMARY:Eucharist
DTSTART;TZID=Europe/London:20260621T093000
DTEND;TZID=Europe/London:20260621T104000
DTSTAMP:20260424T193749Z
UID:1371821782030600.0achurchnearyou
CATEGORIES:
DESCRIPTION:Common Worship Eucharist with Sunday Clubs for 3-16 yr olds
GEO:-2.614638;49.445319
LOCATION:St Saviour
URL:https://www.achurchnearyou.com/church/18555/service-and-events/events/
 137182/
END:VEVENT
BEGIN:VEVENT
SUMMARY:Taize Service
DTSTART;TZID=Europe/London:20260621T170000
DTEND;TZID=Europe/London:20260621T174500
DTSTAMP:20260424T193749Z
UID:6234341782057600.0achurchnearyou
CATEGORIES:
DESCRIPTION:A monthly service following the pattern of the services at Tai
 ze\, France
GEO:-2.614638;49.445319
LOCATION:St Saviour
URL:https://www.achurchnearyou.com/church/18555/service-and-events/events/
 623434/
END:VEVENT
BEGIN:VEVENT
SUMMARY:Eucharist
DTSTART;TZID=Europe/London:20260628T093000
DTEND;TZID=Europe/London:20260628T104000
DTSTAMP:20260424T193749Z
UID:1371821782635400.0achurchnearyou
CATEGORIES:
DESCRIPTION:Common Worship Eucharist with Sunday Clubs for 3-16 yr olds
GEO:-2.614638;49.445319
LOCATION:St Saviour
URL:https://www.achurchnearyou.com/church/18555/service-and-events/events/
 137182/
END:VEVENT
BEGIN:VEVENT
SUMMARY:Meditation Service
DTSTART;TZID=Europe/London:20260628T170000
DTEND;TZID=Europe/London:20260628T173000
DTSTAMP:20260424T193749Z
UID:1371841782662400.0achurchnearyou
CATEGORIES:
DESCRIPTION:Service of readings\, prayers\, music and silence - a quiet sp
 ace to end the day
GEO:-2.614638;49.445319
LOCATION:St Saviour
URL:https://www.achurchnearyou.com/church/18555/service-and-events/events/
 137184/
END:VEVENT
BEGIN:VEVENT
SUMMARY:BCP Eucharist
DTSTART;TZID=Europe/London:20260705T080000
DTEND;TZID=Europe/London:20260705T083000
DTSTAMP:20260424T193749Z
UID:1371811783234800.0achurchnearyou
CATEGORIES:
DESCRIPTION:A short Book of Common Prayer on the first Sunday of the month
GEO:-2.614638;49.445319
LOCATION:St Saviour
URL:https://www.achurchnearyou.com/church/18555/service-and-events/events/
 137181/
END:VEVENT
BEGIN:VEVENT
SUMMARY:Family Eucharist
DTSTART;TZID=Europe/London:20260705T093000
DTEND;TZID=Europe/London:20260705T103000
DTSTAMP:20260424T193749Z
UID:1371831783240200.0achurchnearyou
CATEGORIES:
DESCRIPTION:All-age Family Eucharist
GEO:-2.614638;49.445319
LOCATION:St Saviour
URL:https://www.achurchnearyou.com/church/18555/service-and-events/events/
 137183/
END:VEVENT
BEGIN:VEVENT
SUMMARY:Eucharist
DTSTART;TZID=Europe/London:20260712T093000
DTEND;TZID=Europe/London:20260712T104000
DTSTAMP:20260424T193749Z
UID:1371821783845000.0achurchnearyou
CATEGORIES:
DESCRIPTION:Common Worship Eucharist with Sunday Clubs for 3-16 yr olds
GEO:-2.614638;49.445319
LOCATION:St Saviour
URL:https://www.achurchnearyou.com/church/18555/service-and-events/events/
 137182/
END:VEVENT
BEGIN:VEVENT
SUMMARY:Meditation Service
DTSTART;TZID=Europe/London:20260712T170000
DTEND;TZID=Europe/London:20260712T173000
DTSTAMP:20260424T193749Z
UID:1371841783872000.0achurchnearyou
CATEGORIES:
DESCRIPTION:Service of readings\, prayers\, music and silence - a quiet sp
 ace to end the day
GEO:-2.614638;49.445319
LOCATION:St Saviour
URL:https://www.achurchnearyou.com/church/18555/service-and-events/events/
 137184/
END:VEVENT
BEGIN:VEVENT
SUMMARY:Eucharist
DTSTART;TZID=Europe/London:20260719T093000
DTEND;TZID=Europe/London:20260719T104000
DTSTAMP:20260424T193749Z
UID:1371821784449800.0achurchnearyou
CATEGORIES:
DESCRIPTION:Common Worship Eucharist with Sunday Clubs for 3-16 yr olds
GEO:-2.614638;49.445319
LOCATION:St Saviour
URL:https://www.achurchnearyou.com/church/18555/service-and-events/events/
 137182/
END:VEVENT
BEGIN:VEVENT
SUMMARY:Taize Service
DTSTART;TZID=Europe/London:20260719T170000
DTEND;TZID=Europe/London:20260719T174500
DTSTAMP:20260424T193749Z
UID:6234341784476800.0achurchnearyou
CATEGORIES:
DESCRIPTION:A monthly service following the pattern of the services at Tai
 ze\, France
GEO:-2.614638;49.445319
LOCATION:St Saviour
URL:https://www.achurchnearyou.com/church/18555/service-and-events/events/
 623434/
END:VEVENT
BEGIN:VEVENT
SUMMARY:Eucharist
DTSTART;TZID=Europe/London:20260726T093000
DTEND;TZID=Europe/London:20260726T104000
DTSTAMP:20260424T193749Z
UID:1371821785054600.0achurchnearyou
CATEGORIES:
DESCRIPTION:Common Worship Eucharist with Sunday Clubs for 3-16 yr olds
GEO:-2.614638;49.445319
LOCATION:St Saviour
URL:https://www.achurchnearyou.com/church/18555/service-and-events/events/
 137182/
END:VEVENT
BEGIN:VEVENT
SUMMARY:Meditation Service
DTSTART;TZID=Europe/London:20260726T170000
DTEND;TZID=Europe/London:20260726T173000
DTSTAMP:20260424T193749Z
UID:1371841785081600.0achurchnearyou
CATEGORIES:
DESCRIPTION:Service of readings\, prayers\, music and silence - a quiet sp
 ace to end the day
GEO:-2.614638;49.445319
LOCATION:St Saviour
URL:https://www.achurchnearyou.com/church/18555/service-and-events/events/
 137184/
END:VEVENT
BEGIN:VEVENT
SUMMARY:BCP Eucharist
DTSTART;TZID=Europe/London:20260802T080000
DTEND;TZID=Europe/London:20260802T083000
DTSTAMP:20260424T193749Z
UID:1371811785654000.0achurchnearyou
CATEGORIES:
DESCRIPTION:A short Book of Common Prayer on the first Sunday of the month
GEO:-2.614638;49.445319
LOCATION:St Saviour
URL:https://www.achurchnearyou.com/church/18555/service-and-events/events/
 137181/
END:VEVENT
BEGIN:VEVENT
SUMMARY:Family Eucharist
DTSTART;TZID=Europe/London:20260802T093000
DTEND;TZID=Europe/London:20260802T103000
DTSTAMP:20260424T193749Z
UID:1371831785659400.0achurchnearyou
CATEGORIES:
DESCRIPTION:All-age Family Eucharist
GEO:-2.614638;49.445319
LOCATION:St Saviour
URL:https://www.achurchnearyou.com/church/18555/service-and-events/events/
 137183/
END:VEVENT
BEGIN:VEVENT
SUMMARY:Eucharist
DTSTART;TZID=Europe/London:20260809T093000
DTEND;TZID=Europe/London:20260809T104000
DTSTAMP:20260424T193749Z
UID:1371821786264200.0achurchnearyou
CATEGORIES:
DESCRIPTION:Common Worship Eucharist with Sunday Clubs for 3-16 yr olds
GEO:-2.614638;49.445319
LOCATION:St Saviour
URL:https://www.achurchnearyou.com/church/18555/service-and-events/events/
 137182/
END:VEVENT
BEGIN:VEVENT
SUMMARY:Meditation Service
DTSTART;TZID=Europe/London:20260809T170000
DTEND;TZID=Europe/London:20260809T173000
DTSTAMP:20260424T193749Z
UID:1371841786291200.0achurchnearyou
CATEGORIES:
DESCRIPTION:Service of readings\, prayers\, music and silence - a quiet sp
 ace to end the day
GEO:-2.614638;49.445319
LOCATION:St Saviour
URL:https://www.achurchnearyou.com/church/18555/service-and-events/events/
 137184/
END:VEVENT
BEGIN:VEVENT
SUMMARY:Eucharist
DTSTART;TZID=Europe/London:20260816T093000
DTEND;TZID=Europe/London:20260816T104000
DTSTAMP:20260424T193749Z
UID:1371821786869000.0achurchnearyou
CATEGORIES:
DESCRIPTION:Common Worship Eucharist with Sunday Clubs for 3-16 yr olds
GEO:-2.614638;49.445319
LOCATION:St Saviour
URL:https://www.achurchnearyou.com/church/18555/service-and-events/events/
 137182/
END:VEVENT
BEGIN:VEVENT
SUMMARY:Taize Service
DTSTART;TZID=Europe/London:20260816T170000
DTEND;TZID=Europe/London:20260816T174500
DTSTAMP:20260424T193749Z
UID:6234341786896000.0achurchnearyou
CATEGORIES:
DESCRIPTION:A monthly service following the pattern of the services at Tai
 ze\, France
GEO:-2.614638;49.445319
LOCATION:St Saviour
URL:https://www.achurchnearyou.com/church/18555/service-and-events/events/
 623434/
END:VEVENT
BEGIN:VEVENT
SUMMARY:Eucharist
DTSTART;TZID=Europe/London:20260823T093000
DTEND;TZID=Europe/London:20260823T104000
DTSTAMP:20260424T193749Z
UID:1371821787473800.0achurchnearyou
CATEGORIES:
DESCRIPTION:Common Worship Eucharist with Sunday Clubs for 3-16 yr olds
GEO:-2.614638;49.445319
LOCATION:St Saviour
URL:https://www.achurchnearyou.com/church/18555/service-and-events/events/
 137182/
END:VEVENT
BEGIN:VEVENT
SUMMARY:Meditation Service
DTSTART;TZID=Europe/London:20260823T170000
DTEND;TZID=Europe/London:20260823T173000
DTSTAMP:20260424T193749Z
UID:1371841787500800.0achurchnearyou
CATEGORIES:
DESCRIPTION:Service of readings\, prayers\, music and silence - a quiet sp
 ace to end the day
GEO:-2.614638;49.445319
LOCATION:St Saviour
URL:https://www.achurchnearyou.com/church/18555/service-and-events/events/
 137184/
END:VEVENT
BEGIN:VEVENT
SUMMARY:Eucharist
DTSTART;TZID=Europe/London:20260830T093000
DTEND;TZID=Europe/London:20260830T104000
DTSTAMP:20260424T193749Z
UID:1371821788078600.0achurchnearyou
CATEGORIES:
DESCRIPTION:Common Worship Eucharist with Sunday Clubs for 3-16 yr olds
GEO:-2.614638;49.445319
LOCATION:St Saviour
URL:https://www.achurchnearyou.com/church/18555/service-and-events/events/
 137182/
END:VEVENT
BEGIN:VEVENT
SUMMARY:BCP Eucharist
DTSTART;TZID=Europe/London:20260906T080000
DTEND;TZID=Europe/London:20260906T083000
DTSTAMP:20260424T193749Z
UID:1371811788678000.0achurchnearyou
CATEGORIES:
DESCRIPTION:A short Book of Common Prayer on the first Sunday of the month
GEO:-2.614638;49.445319
LOCATION:St Saviour
URL:https://www.achurchnearyou.com/church/18555/service-and-events/events/
 137181/
END:VEVENT
BEGIN:VEVENT
SUMMARY:Family Eucharist
DTSTART;TZID=Europe/London:20260906T093000
DTEND;TZID=Europe/London:20260906T103000
DTSTAMP:20260424T193749Z
UID:1371831788683400.0achurchnearyou
CATEGORIES:
DESCRIPTION:All-age Family Eucharist
GEO:-2.614638;49.445319
LOCATION:St Saviour
URL:https://www.achurchnearyou.com/church/18555/service-and-events/events/
 137183/
END:VEVENT
BEGIN:VEVENT
SUMMARY:Eucharist
DTSTART;TZID=Europe/London:20260913T093000
DTEND;TZID=Europe/London:20260913T104000
DTSTAMP:20260424T193749Z
UID:1371821789288200.0achurchnearyou
CATEGORIES:
DESCRIPTION:Common Worship Eucharist with Sunday Clubs for 3-16 yr olds
GEO:-2.614638;49.445319
LOCATION:St Saviour
URL:https://www.achurchnearyou.com/church/18555/service-and-events/events/
 137182/
END:VEVENT
BEGIN:VEVENT
SUMMARY:Meditation Service
DTSTART;TZID=Europe/London:20260913T170000
DTEND;TZID=Europe/London:20260913T173000
DTSTAMP:20260424T193749Z
UID:1371841789315200.0achurchnearyou
CATEGORIES:
DESCRIPTION:Service of readings\, prayers\, music and silence - a quiet sp
 ace to end the day
GEO:-2.614638;49.445319
LOCATION:St Saviour
URL:https://www.achurchnearyou.com/church/18555/service-and-events/events/
 137184/
END:VEVENT
BEGIN:VEVENT
SUMMARY:Eucharist
DTSTART;TZID=Europe/London:20260920T093000
DTEND;TZID=Europe/London:20260920T104000
DTSTAMP:20260424T193749Z
UID:1371821789893000.0achurchnearyou
CATEGORIES:
DESCRIPTION:Common Worship Eucharist with Sunday Clubs for 3-16 yr olds
GEO:-2.614638;49.445319
LOCATION:St Saviour
URL:https://www.achurchnearyou.com/church/18555/service-and-events/events/
 137182/
END:VEVENT
BEGIN:VEVENT
SUMMARY:Taize Service
DTSTART;TZID=Europe/London:20260920T170000
DTEND;TZID=Europe/London:20260920T174500
DTSTAMP:20260424T193749Z
UID:6234341789920000.0achurchnearyou
CATEGORIES:
DESCRIPTION:A monthly service following the pattern of the services at Tai
 ze\, France
GEO:-2.614638;49.445319
LOCATION:St Saviour
URL:https://www.achurchnearyou.com/church/18555/service-and-events/events/
 623434/
END:VEVENT
BEGIN:VEVENT
SUMMARY:Eucharist
DTSTART;TZID=Europe/London:20260927T093000
DTEND;TZID=Europe/London:20260927T104000
DTSTAMP:20260424T193749Z
UID:1371821790497800.0achurchnearyou
CATEGORIES:
DESCRIPTION:Common Worship Eucharist with Sunday Clubs for 3-16 yr olds
GEO:-2.614638;49.445319
LOCATION:St Saviour
URL:https://www.achurchnearyou.com/church/18555/service-and-events/events/
 137182/
END:VEVENT
BEGIN:VEVENT
SUMMARY:Meditation Service
DTSTART;TZID=Europe/London:20260927T170000
DTEND;TZID=Europe/London:20260927T173000
DTSTAMP:20260424T193749Z
UID:1371841790524800.0achurchnearyou
CATEGORIES:
DESCRIPTION:Service of readings\, prayers\, music and silence - a quiet sp
 ace to end the day
GEO:-2.614638;49.445319
LOCATION:St Saviour
URL:https://www.achurchnearyou.com/church/18555/service-and-events/events/
 137184/
END:VEVENT
END:VCALENDAR
