BEGIN:VCALENDAR
VERSION:2.0
PRODID:-//achurchnearyou.com//eventfeed//EN
CALSCALE:GREGORIAN
METHOD:PUBLISH
X-WR-TIMEZONE:UTC
BEGIN:VEVENT
SUMMARY:All Together
DTSTART;TZID=Europe/London:20230603T150000
DTEND;TZID=Europe/London:20230603T160000
DTSTAMP:20260422T030743Z
UID:9357562023-06-03 15:00:00+01:00achurchnearyou
CATEGORIES:
DESCRIPTION:All Together is a free event for children and families which i
 s run on the first Saturday of every month at Christ Church Lower Broadhea
 th from 3pm-4pm. Join us for Bible stories\, crafts\, activities\, songs\,
  cakes and a whole lot of fun!
GEO:-2.278617;52.213109
LOCATION:Christ Church\, Lower Broadheath
URL:http://www.westworcesterbeacon.org.uk
END:VEVENT
BEGIN:VEVENT
SUMMARY:All Together
DTSTART;TZID=Europe/London:20230701T150000
DTEND;TZID=Europe/London:20230701T160000
DTSTAMP:20260422T030743Z
UID:9357562023-07-01 15:00:00+01:00achurchnearyou
CATEGORIES:
DESCRIPTION:All Together is a free event for children and families which i
 s run on the first Saturday of every month at Christ Church Lower Broadhea
 th from 3pm-4pm. Join us for Bible stories\, crafts\, activities\, songs\,
  cakes and a whole lot of fun!
GEO:-2.278617;52.213109
LOCATION:Christ Church\, Lower Broadheath
URL:http://www.westworcesterbeacon.org.uk
END:VEVENT
BEGIN:VEVENT
SUMMARY:All Together
DTSTART;TZID=Europe/London:20230805T150000
DTEND;TZID=Europe/London:20230805T160000
DTSTAMP:20260422T030743Z
UID:9357562023-08-05 15:00:00+01:00achurchnearyou
CATEGORIES:
DESCRIPTION:All Together is a free event for children and families which i
 s run on the first Saturday of every month at Christ Church Lower Broadhea
 th from 3pm-4pm. Join us for Bible stories\, crafts\, activities\, songs\,
  cakes and a whole lot of fun!
GEO:-2.278617;52.213109
LOCATION:Christ Church\, Lower Broadheath
URL:http://www.westworcesterbeacon.org.uk
END:VEVENT
BEGIN:VEVENT
SUMMARY:All Together
DTSTART;TZID=Europe/London:20230902T150000
DTEND;TZID=Europe/London:20230902T160000
DTSTAMP:20260422T030743Z
UID:9357562023-09-02 15:00:00+01:00achurchnearyou
CATEGORIES:
DESCRIPTION:All Together is a free event for children and families which i
 s run on the first Saturday of every month at Christ Church Lower Broadhea
 th from 3pm-4pm. Join us for Bible stories\, crafts\, activities\, songs\,
  cakes and a whole lot of fun!
GEO:-2.278617;52.213109
LOCATION:Christ Church\, Lower Broadheath
URL:http://www.westworcesterbeacon.org.uk
END:VEVENT
BEGIN:VEVENT
SUMMARY:All Together
DTSTART;TZID=Europe/London:20231007T150000
DTEND;TZID=Europe/London:20231007T160000
DTSTAMP:20260422T030743Z
UID:9357562023-10-07 15:00:00+01:00achurchnearyou
CATEGORIES:
DESCRIPTION:All Together is a free event for children and families which i
 s run on the first Saturday of every month at Christ Church Lower Broadhea
 th from 3pm-4pm. Join us for Bible stories\, crafts\, activities\, songs\,
  cakes and a whole lot of fun!
GEO:-2.278617;52.213109
LOCATION:Christ Church\, Lower Broadheath
URL:http://www.westworcesterbeacon.org.uk
END:VEVENT
BEGIN:VEVENT
SUMMARY:All Together
DTSTART;TZID=Europe/London:20231104T150000
DTEND;TZID=Europe/London:20231104T160000
DTSTAMP:20260422T030743Z
UID:9357562023-11-04 15:00:00+00:00achurchnearyou
CATEGORIES:
DESCRIPTION:All Together is a free event for children and families which i
 s run on the first Saturday of every month at Christ Church Lower Broadhea
 th from 3pm-4pm. Join us for Bible stories\, crafts\, activities\, songs\,
  cakes and a whole lot of fun!
GEO:-2.278617;52.213109
LOCATION:Christ Church\, Lower Broadheath
URL:http://www.westworcesterbeacon.org.uk
END:VEVENT
BEGIN:VEVENT
SUMMARY:All Together
DTSTART;TZID=Europe/London:20231202T150000
DTEND;TZID=Europe/London:20231202T160000
DTSTAMP:20260422T030743Z
UID:9357562023-12-02 15:00:00+00:00achurchnearyou
CATEGORIES:
DESCRIPTION:All Together is a free event for children and families which i
 s run on the first Saturday of every month at Christ Church Lower Broadhea
 th from 3pm-4pm. Join us for Bible stories\, crafts\, activities\, songs\,
  cakes and a whole lot of fun!
GEO:-2.278617;52.213109
LOCATION:Christ Church\, Lower Broadheath
URL:http://www.westworcesterbeacon.org.uk
END:VEVENT
BEGIN:VEVENT
SUMMARY:All Together
DTSTART;TZID=Europe/London:20240106T150000
DTEND;TZID=Europe/London:20240106T160000
DTSTAMP:20260422T030743Z
UID:9357562024-01-06 15:00:00+00:00achurchnearyou
CATEGORIES:
DESCRIPTION:All Together is a free event for children and families which i
 s run on the first Saturday of every month at Christ Church Lower Broadhea
 th from 3pm-4pm. Join us for Bible stories\, crafts\, activities\, songs\,
  cakes and a whole lot of fun!
GEO:-2.278617;52.213109
LOCATION:Christ Church\, Lower Broadheath
URL:http://www.westworcesterbeacon.org.uk
END:VEVENT
BEGIN:VEVENT
SUMMARY:All Together
DTSTART;TZID=Europe/London:20240203T150000
DTEND;TZID=Europe/London:20240203T160000
DTSTAMP:20260422T030743Z
UID:9357562024-02-03 15:00:00+00:00achurchnearyou
CATEGORIES:
DESCRIPTION:All Together is a free event for children and families which i
 s run on the first Saturday of every month at Christ Church Lower Broadhea
 th from 3pm-4pm. Join us for Bible stories\, crafts\, activities\, songs\,
  cakes and a whole lot of fun!
GEO:-2.278617;52.213109
LOCATION:Christ Church\, Lower Broadheath
URL:http://www.westworcesterbeacon.org.uk
END:VEVENT
BEGIN:VEVENT
SUMMARY:All Together
DTSTART;TZID=Europe/London:20240302T150000
DTEND;TZID=Europe/London:20240302T160000
DTSTAMP:20260422T030743Z
UID:9357562024-03-02 15:00:00+00:00achurchnearyou
CATEGORIES:
DESCRIPTION:All Together is a free event for children and families which i
 s run on the first Saturday of every month at Christ Church Lower Broadhea
 th from 3pm-4pm. Join us for Bible stories\, crafts\, activities\, songs\,
  cakes and a whole lot of fun!
GEO:-2.278617;52.213109
LOCATION:Christ Church\, Lower Broadheath
URL:http://www.westworcesterbeacon.org.uk
END:VEVENT
BEGIN:VEVENT
SUMMARY:All Together
DTSTART;TZID=Europe/London:20240406T150000
DTEND;TZID=Europe/London:20240406T160000
DTSTAMP:20260422T030743Z
UID:9357562024-04-06 15:00:00+01:00achurchnearyou
CATEGORIES:
DESCRIPTION:All Together is a free event for children and families which i
 s run on the first Saturday of every month at Christ Church Lower Broadhea
 th from 3pm-4pm. Join us for Bible stories\, crafts\, activities\, songs\,
  cakes and a whole lot of fun!
GEO:-2.278617;52.213109
LOCATION:Christ Church\, Lower Broadheath
URL:http://www.westworcesterbeacon.org.uk
END:VEVENT
BEGIN:VEVENT
SUMMARY:All Together
DTSTART;TZID=Europe/London:20240504T150000
DTEND;TZID=Europe/London:20240504T160000
DTSTAMP:20260422T030743Z
UID:9357562024-05-04 15:00:00+01:00achurchnearyou
CATEGORIES:
DESCRIPTION:All Together is a free event for children and families which i
 s run on the first Saturday of every month at Christ Church Lower Broadhea
 th from 3pm-4pm. Join us for Bible stories\, crafts\, activities\, songs\,
  cakes and a whole lot of fun!
GEO:-2.278617;52.213109
LOCATION:Christ Church\, Lower Broadheath
URL:http://www.westworcesterbeacon.org.uk
END:VEVENT
BEGIN:VEVENT
SUMMARY:All Together
DTSTART;TZID=Europe/London:20240601T150000
DTEND;TZID=Europe/London:20240601T160000
DTSTAMP:20260422T030743Z
UID:9357562024-06-01 15:00:00+01:00achurchnearyou
CATEGORIES:
DESCRIPTION:All Together is a free event for children and families which i
 s run on the first Saturday of every month at Christ Church Lower Broadhea
 th from 3pm-4pm. Join us for Bible stories\, crafts\, activities\, songs\,
  cakes and a whole lot of fun!
GEO:-2.278617;52.213109
LOCATION:Christ Church\, Lower Broadheath
URL:http://www.westworcesterbeacon.org.uk
END:VEVENT
BEGIN:VEVENT
SUMMARY:All Together
DTSTART;TZID=Europe/London:20240706T150000
DTEND;TZID=Europe/London:20240706T160000
DTSTAMP:20260422T030743Z
UID:9357562024-07-06 15:00:00+01:00achurchnearyou
CATEGORIES:
DESCRIPTION:All Together is a free event for children and families which i
 s run on the first Saturday of every month at Christ Church Lower Broadhea
 th from 3pm-4pm. Join us for Bible stories\, crafts\, activities\, songs\,
  cakes and a whole lot of fun!
GEO:-2.278617;52.213109
LOCATION:Christ Church\, Lower Broadheath
URL:http://www.westworcesterbeacon.org.uk
END:VEVENT
BEGIN:VEVENT
SUMMARY:All Together
DTSTART;TZID=Europe/London:20240803T150000
DTEND;TZID=Europe/London:20240803T160000
DTSTAMP:20260422T030743Z
UID:9357562024-08-03 15:00:00+01:00achurchnearyou
CATEGORIES:
DESCRIPTION:All Together is a free event for children and families which i
 s run on the first Saturday of every month at Christ Church Lower Broadhea
 th from 3pm-4pm. Join us for Bible stories\, crafts\, activities\, songs\,
  cakes and a whole lot of fun!
GEO:-2.278617;52.213109
LOCATION:Christ Church\, Lower Broadheath
URL:http://www.westworcesterbeacon.org.uk
END:VEVENT
BEGIN:VEVENT
SUMMARY:All Together
DTSTART;TZID=Europe/London:20240907T150000
DTEND;TZID=Europe/London:20240907T160000
DTSTAMP:20260422T030743Z
UID:9357562024-09-07 15:00:00+01:00achurchnearyou
CATEGORIES:
DESCRIPTION:All Together is a free event for children and families which i
 s run on the first Saturday of every month at Christ Church Lower Broadhea
 th from 3pm-4pm. Join us for Bible stories\, crafts\, activities\, songs\,
  cakes and a whole lot of fun!
GEO:-2.278617;52.213109
LOCATION:Christ Church\, Lower Broadheath
URL:http://www.westworcesterbeacon.org.uk
END:VEVENT
BEGIN:VEVENT
SUMMARY:All Together
DTSTART;TZID=Europe/London:20241005T150000
DTEND;TZID=Europe/London:20241005T160000
DTSTAMP:20260422T030743Z
UID:9357562024-10-05 15:00:00+01:00achurchnearyou
CATEGORIES:
DESCRIPTION:All Together is a free event for children and families which i
 s run on the first Saturday of every month at Christ Church Lower Broadhea
 th from 3pm-4pm. Join us for Bible stories\, crafts\, activities\, songs\,
  cakes and a whole lot of fun!
GEO:-2.278617;52.213109
LOCATION:Christ Church\, Lower Broadheath
URL:http://www.westworcesterbeacon.org.uk
END:VEVENT
BEGIN:VEVENT
SUMMARY:All Together
DTSTART;TZID=Europe/London:20241102T150000
DTEND;TZID=Europe/London:20241102T160000
DTSTAMP:20260422T030743Z
UID:9357562024-11-02 15:00:00+00:00achurchnearyou
CATEGORIES:
DESCRIPTION:All Together is a free event for children and families which i
 s run on the first Saturday of every month at Christ Church Lower Broadhea
 th from 3pm-4pm. Join us for Bible stories\, crafts\, activities\, songs\,
  cakes and a whole lot of fun!
GEO:-2.278617;52.213109
LOCATION:Christ Church\, Lower Broadheath
URL:http://www.westworcesterbeacon.org.uk
END:VEVENT
BEGIN:VEVENT
SUMMARY:All Together
DTSTART;TZID=Europe/London:20241207T150000
DTEND;TZID=Europe/London:20241207T160000
DTSTAMP:20260422T030743Z
UID:9357562024-12-07 15:00:00+00:00achurchnearyou
CATEGORIES:
DESCRIPTION:All Together is a free event for children and families which i
 s run on the first Saturday of every month at Christ Church Lower Broadhea
 th from 3pm-4pm. Join us for Bible stories\, crafts\, activities\, songs\,
  cakes and a whole lot of fun!
GEO:-2.278617;52.213109
LOCATION:Christ Church\, Lower Broadheath
URL:http://www.westworcesterbeacon.org.uk
END:VEVENT
BEGIN:VEVENT
SUMMARY:All Together
DTSTART;TZID=Europe/London:20250104T150000
DTEND;TZID=Europe/London:20250104T160000
DTSTAMP:20260422T030743Z
UID:9357562025-01-04 15:00:00+00:00achurchnearyou
CATEGORIES:
DESCRIPTION:All Together is a free event for children and families which i
 s run on the first Saturday of every month at Christ Church Lower Broadhea
 th from 3pm-4pm. Join us for Bible stories\, crafts\, activities\, songs\,
  cakes and a whole lot of fun!
GEO:-2.278617;52.213109
LOCATION:Christ Church\, Lower Broadheath
URL:http://www.westworcesterbeacon.org.uk
END:VEVENT
BEGIN:VEVENT
SUMMARY:All Together
DTSTART;TZID=Europe/London:20250201T150000
DTEND;TZID=Europe/London:20250201T160000
DTSTAMP:20260422T030743Z
UID:9357562025-02-01 15:00:00+00:00achurchnearyou
CATEGORIES:
DESCRIPTION:All Together is a free event for children and families which i
 s run on the first Saturday of every month at Christ Church Lower Broadhea
 th from 3pm-4pm. Join us for Bible stories\, crafts\, activities\, songs\,
  cakes and a whole lot of fun!
GEO:-2.278617;52.213109
LOCATION:Christ Church\, Lower Broadheath
URL:http://www.westworcesterbeacon.org.uk
END:VEVENT
BEGIN:VEVENT
SUMMARY:All Together
DTSTART;TZID=Europe/London:20250301T150000
DTEND;TZID=Europe/London:20250301T160000
DTSTAMP:20260422T030743Z
UID:9357562025-03-01 15:00:00+00:00achurchnearyou
CATEGORIES:
DESCRIPTION:All Together is a free event for children and families which i
 s run on the first Saturday of every month at Christ Church Lower Broadhea
 th from 3pm-4pm. Join us for Bible stories\, crafts\, activities\, songs\,
  cakes and a whole lot of fun!
GEO:-2.278617;52.213109
LOCATION:Christ Church\, Lower Broadheath
URL:http://www.westworcesterbeacon.org.uk
END:VEVENT
BEGIN:VEVENT
SUMMARY:All Together
DTSTART;TZID=Europe/London:20250405T150000
DTEND;TZID=Europe/London:20250405T160000
DTSTAMP:20260422T030743Z
UID:9357562025-04-05 15:00:00+01:00achurchnearyou
CATEGORIES:
DESCRIPTION:All Together is a free event for children and families which i
 s run on the first Saturday of every month at Christ Church Lower Broadhea
 th from 3pm-4pm. Join us for Bible stories\, crafts\, activities\, songs\,
  cakes and a whole lot of fun!
GEO:-2.278617;52.213109
LOCATION:Christ Church\, Lower Broadheath
URL:http://www.westworcesterbeacon.org.uk
END:VEVENT
BEGIN:VEVENT
SUMMARY:All Together
DTSTART;TZID=Europe/London:20250503T150000
DTEND;TZID=Europe/London:20250503T160000
DTSTAMP:20260422T030743Z
UID:9357562025-05-03 15:00:00+01:00achurchnearyou
CATEGORIES:
DESCRIPTION:All Together is a free event for children and families which i
 s run on the first Saturday of every month at Christ Church Lower Broadhea
 th from 3pm-4pm. Join us for Bible stories\, crafts\, activities\, songs\,
  cakes and a whole lot of fun!
GEO:-2.278617;52.213109
LOCATION:Christ Church\, Lower Broadheath
URL:http://www.westworcesterbeacon.org.uk
END:VEVENT
BEGIN:VEVENT
SUMMARY:All Together
DTSTART;TZID=Europe/London:20250607T150000
DTEND;TZID=Europe/London:20250607T160000
DTSTAMP:20260422T030743Z
UID:9357562025-06-07 15:00:00+01:00achurchnearyou
CATEGORIES:
DESCRIPTION:All Together is a free event for children and families which i
 s run on the first Saturday of every month at Christ Church Lower Broadhea
 th from 3pm-4pm. Join us for Bible stories\, crafts\, activities\, songs\,
  cakes and a whole lot of fun!
GEO:-2.278617;52.213109
LOCATION:Christ Church\, Lower Broadheath
URL:http://www.westworcesterbeacon.org.uk
END:VEVENT
BEGIN:VEVENT
SUMMARY:All Together
DTSTART;TZID=Europe/London:20250705T150000
DTEND;TZID=Europe/London:20250705T160000
DTSTAMP:20260422T030743Z
UID:9357562025-07-05 15:00:00+01:00achurchnearyou
CATEGORIES:
DESCRIPTION:All Together is a free event for children and families which i
 s run on the first Saturday of every month at Christ Church Lower Broadhea
 th from 3pm-4pm. Join us for Bible stories\, crafts\, activities\, songs\,
  cakes and a whole lot of fun!
GEO:-2.278617;52.213109
LOCATION:Christ Church\, Lower Broadheath
URL:http://www.westworcesterbeacon.org.uk
END:VEVENT
BEGIN:VEVENT
SUMMARY:All Together
DTSTART;TZID=Europe/London:20250802T150000
DTEND;TZID=Europe/London:20250802T160000
DTSTAMP:20260422T030743Z
UID:9357562025-08-02 15:00:00+01:00achurchnearyou
CATEGORIES:
DESCRIPTION:All Together is a free event for children and families which i
 s run on the first Saturday of every month at Christ Church Lower Broadhea
 th from 3pm-4pm. Join us for Bible stories\, crafts\, activities\, songs\,
  cakes and a whole lot of fun!
GEO:-2.278617;52.213109
LOCATION:Christ Church\, Lower Broadheath
URL:http://www.westworcesterbeacon.org.uk
END:VEVENT
BEGIN:VEVENT
SUMMARY:All Together
DTSTART;TZID=Europe/London:20250906T150000
DTEND;TZID=Europe/London:20250906T160000
DTSTAMP:20260422T030743Z
UID:9357562025-09-06 15:00:00+01:00achurchnearyou
CATEGORIES:
DESCRIPTION:All Together is a free event for children and families which i
 s run on the first Saturday of every month at Christ Church Lower Broadhea
 th from 3pm-4pm. Join us for Bible stories\, crafts\, activities\, songs\,
  cakes and a whole lot of fun!
GEO:-2.278617;52.213109
LOCATION:Christ Church\, Lower Broadheath
URL:http://www.westworcesterbeacon.org.uk
END:VEVENT
BEGIN:VEVENT
SUMMARY:All Together
DTSTART;TZID=Europe/London:20251004T150000
DTEND;TZID=Europe/London:20251004T160000
DTSTAMP:20260422T030743Z
UID:9357562025-10-04 15:00:00+01:00achurchnearyou
CATEGORIES:
DESCRIPTION:All Together is a free event for children and families which i
 s run on the first Saturday of every month at Christ Church Lower Broadhea
 th from 3pm-4pm. Join us for Bible stories\, crafts\, activities\, songs\,
  cakes and a whole lot of fun!
GEO:-2.278617;52.213109
LOCATION:Christ Church\, Lower Broadheath
URL:http://www.westworcesterbeacon.org.uk
END:VEVENT
BEGIN:VEVENT
SUMMARY:All Together
DTSTART;TZID=Europe/London:20251101T150000
DTEND;TZID=Europe/London:20251101T160000
DTSTAMP:20260422T030743Z
UID:9357562025-11-01 15:00:00+00:00achurchnearyou
CATEGORIES:
DESCRIPTION:All Together is a free event for children and families which i
 s run on the first Saturday of every month at Christ Church Lower Broadhea
 th from 3pm-4pm. Join us for Bible stories\, crafts\, activities\, songs\,
  cakes and a whole lot of fun!
GEO:-2.278617;52.213109
LOCATION:Christ Church\, Lower Broadheath
URL:http://www.westworcesterbeacon.org.uk
END:VEVENT
BEGIN:VEVENT
SUMMARY:All Together
DTSTART;TZID=Europe/London:20251206T150000
DTEND;TZID=Europe/London:20251206T160000
DTSTAMP:20260422T030743Z
UID:9357562025-12-06 15:00:00+00:00achurchnearyou
CATEGORIES:
DESCRIPTION:All Together is a free event for children and families which i
 s run on the first Saturday of every month at Christ Church Lower Broadhea
 th from 3pm-4pm. Join us for Bible stories\, crafts\, activities\, songs\,
  cakes and a whole lot of fun!
GEO:-2.278617;52.213109
LOCATION:Christ Church\, Lower Broadheath
URL:http://www.westworcesterbeacon.org.uk
END:VEVENT
BEGIN:VEVENT
SUMMARY:All Together
DTSTART;TZID=Europe/London:20260103T150000
DTEND;TZID=Europe/London:20260103T160000
DTSTAMP:20260422T030743Z
UID:9357562026-01-03 15:00:00+00:00achurchnearyou
CATEGORIES:
DESCRIPTION:All Together is a free event for children and families which i
 s run on the first Saturday of every month at Christ Church Lower Broadhea
 th from 3pm-4pm. Join us for Bible stories\, crafts\, activities\, songs\,
  cakes and a whole lot of fun!
GEO:-2.278617;52.213109
LOCATION:Christ Church\, Lower Broadheath
URL:http://www.westworcesterbeacon.org.uk
END:VEVENT
BEGIN:VEVENT
SUMMARY:All Together
DTSTART;TZID=Europe/London:20260207T150000
DTEND;TZID=Europe/London:20260207T160000
DTSTAMP:20260422T030743Z
UID:9357562026-02-07 15:00:00+00:00achurchnearyou
CATEGORIES:
DESCRIPTION:All Together is a free event for children and families which i
 s run on the first Saturday of every month at Christ Church Lower Broadhea
 th from 3pm-4pm. Join us for Bible stories\, crafts\, activities\, songs\,
  cakes and a whole lot of fun!
GEO:-2.278617;52.213109
LOCATION:Christ Church\, Lower Broadheath
URL:http://www.westworcesterbeacon.org.uk
END:VEVENT
BEGIN:VEVENT
SUMMARY:All Together
DTSTART;TZID=Europe/London:20260307T150000
DTEND;TZID=Europe/London:20260307T160000
DTSTAMP:20260422T030743Z
UID:9357562026-03-07 15:00:00+00:00achurchnearyou
CATEGORIES:
DESCRIPTION:All Together is a free event for children and families which i
 s run on the first Saturday of every month at Christ Church Lower Broadhea
 th from 3pm-4pm. Join us for Bible stories\, crafts\, activities\, songs\,
  cakes and a whole lot of fun!
GEO:-2.278617;52.213109
LOCATION:Christ Church\, Lower Broadheath
URL:http://www.westworcesterbeacon.org.uk
END:VEVENT
BEGIN:VEVENT
SUMMARY:All Together
DTSTART;TZID=Europe/London:20260404T150000
DTEND;TZID=Europe/London:20260404T160000
DTSTAMP:20260422T030743Z
UID:9357562026-04-04 15:00:00+01:00achurchnearyou
CATEGORIES:
DESCRIPTION:All Together is a free event for children and families which i
 s run on the first Saturday of every month at Christ Church Lower Broadhea
 th from 3pm-4pm. Join us for Bible stories\, crafts\, activities\, songs\,
  cakes and a whole lot of fun!
GEO:-2.278617;52.213109
LOCATION:Christ Church\, Lower Broadheath
URL:http://www.westworcesterbeacon.org.uk
END:VEVENT
BEGIN:VEVENT
SUMMARY:All Together
DTSTART;TZID=Europe/London:20260502T150000
DTEND;TZID=Europe/London:20260502T160000
DTSTAMP:20260422T030743Z
UID:9357562026-05-02 15:00:00+01:00achurchnearyou
CATEGORIES:
DESCRIPTION:All Together is a free event for children and families which i
 s run on the first Saturday of every month at Christ Church Lower Broadhea
 th from 3pm-4pm. Join us for Bible stories\, crafts\, activities\, songs\,
  cakes and a whole lot of fun!
GEO:-2.278617;52.213109
LOCATION:Christ Church\, Lower Broadheath
URL:http://www.westworcesterbeacon.org.uk
END:VEVENT
BEGIN:VEVENT
SUMMARY:All Together
DTSTART;TZID=Europe/London:20260606T150000
DTEND;TZID=Europe/London:20260606T160000
DTSTAMP:20260422T030743Z
UID:9357562026-06-06 15:00:00+01:00achurchnearyou
CATEGORIES:
DESCRIPTION:All Together is a free event for children and families which i
 s run on the first Saturday of every month at Christ Church Lower Broadhea
 th from 3pm-4pm. Join us for Bible stories\, crafts\, activities\, songs\,
  cakes and a whole lot of fun!
GEO:-2.278617;52.213109
LOCATION:Christ Church\, Lower Broadheath
URL:http://www.westworcesterbeacon.org.uk
END:VEVENT
BEGIN:VEVENT
SUMMARY:All Together
DTSTART;TZID=Europe/London:20260704T150000
DTEND;TZID=Europe/London:20260704T160000
DTSTAMP:20260422T030743Z
UID:9357562026-07-04 15:00:00+01:00achurchnearyou
CATEGORIES:
DESCRIPTION:All Together is a free event for children and families which i
 s run on the first Saturday of every month at Christ Church Lower Broadhea
 th from 3pm-4pm. Join us for Bible stories\, crafts\, activities\, songs\,
  cakes and a whole lot of fun!
GEO:-2.278617;52.213109
LOCATION:Christ Church\, Lower Broadheath
URL:http://www.westworcesterbeacon.org.uk
END:VEVENT
BEGIN:VEVENT
SUMMARY:All Together
DTSTART;TZID=Europe/London:20260801T150000
DTEND;TZID=Europe/London:20260801T160000
DTSTAMP:20260422T030743Z
UID:9357562026-08-01 15:00:00+01:00achurchnearyou
CATEGORIES:
DESCRIPTION:All Together is a free event for children and families which i
 s run on the first Saturday of every month at Christ Church Lower Broadhea
 th from 3pm-4pm. Join us for Bible stories\, crafts\, activities\, songs\,
  cakes and a whole lot of fun!
GEO:-2.278617;52.213109
LOCATION:Christ Church\, Lower Broadheath
URL:http://www.westworcesterbeacon.org.uk
END:VEVENT
BEGIN:VEVENT
SUMMARY:All Together
DTSTART;TZID=Europe/London:20260905T150000
DTEND;TZID=Europe/London:20260905T160000
DTSTAMP:20260422T030743Z
UID:9357562026-09-05 15:00:00+01:00achurchnearyou
CATEGORIES:
DESCRIPTION:All Together is a free event for children and families which i
 s run on the first Saturday of every month at Christ Church Lower Broadhea
 th from 3pm-4pm. Join us for Bible stories\, crafts\, activities\, songs\,
  cakes and a whole lot of fun!
GEO:-2.278617;52.213109
LOCATION:Christ Church\, Lower Broadheath
URL:http://www.westworcesterbeacon.org.uk
END:VEVENT
BEGIN:VEVENT
SUMMARY:All Together
DTSTART;TZID=Europe/London:20261003T150000
DTEND;TZID=Europe/London:20261003T160000
DTSTAMP:20260422T030743Z
UID:9357562026-10-03 15:00:00+01:00achurchnearyou
CATEGORIES:
DESCRIPTION:All Together is a free event for children and families which i
 s run on the first Saturday of every month at Christ Church Lower Broadhea
 th from 3pm-4pm. Join us for Bible stories\, crafts\, activities\, songs\,
  cakes and a whole lot of fun!
GEO:-2.278617;52.213109
LOCATION:Christ Church\, Lower Broadheath
URL:http://www.westworcesterbeacon.org.uk
END:VEVENT
BEGIN:VEVENT
SUMMARY:All Together
DTSTART;TZID=Europe/London:20261107T150000
DTEND;TZID=Europe/London:20261107T160000
DTSTAMP:20260422T030743Z
UID:9357562026-11-07 15:00:00+00:00achurchnearyou
CATEGORIES:
DESCRIPTION:All Together is a free event for children and families which i
 s run on the first Saturday of every month at Christ Church Lower Broadhea
 th from 3pm-4pm. Join us for Bible stories\, crafts\, activities\, songs\,
  cakes and a whole lot of fun!
GEO:-2.278617;52.213109
LOCATION:Christ Church\, Lower Broadheath
URL:http://www.westworcesterbeacon.org.uk
END:VEVENT
BEGIN:VEVENT
SUMMARY:All Together
DTSTART;TZID=Europe/London:20261205T150000
DTEND;TZID=Europe/London:20261205T160000
DTSTAMP:20260422T030743Z
UID:9357562026-12-05 15:00:00+00:00achurchnearyou
CATEGORIES:
DESCRIPTION:All Together is a free event for children and families which i
 s run on the first Saturday of every month at Christ Church Lower Broadhea
 th from 3pm-4pm. Join us for Bible stories\, crafts\, activities\, songs\,
  cakes and a whole lot of fun!
GEO:-2.278617;52.213109
LOCATION:Christ Church\, Lower Broadheath
URL:http://www.westworcesterbeacon.org.uk
END:VEVENT
BEGIN:VEVENT
SUMMARY:All Together
DTSTART;TZID=Europe/London:20270102T150000
DTEND;TZID=Europe/London:20270102T160000
DTSTAMP:20260422T030743Z
UID:9357562027-01-02 15:00:00+00:00achurchnearyou
CATEGORIES:
DESCRIPTION:All Together is a free event for children and families which i
 s run on the first Saturday of every month at Christ Church Lower Broadhea
 th from 3pm-4pm. Join us for Bible stories\, crafts\, activities\, songs\,
  cakes and a whole lot of fun!
GEO:-2.278617;52.213109
LOCATION:Christ Church\, Lower Broadheath
URL:http://www.westworcesterbeacon.org.uk
END:VEVENT
BEGIN:VEVENT
SUMMARY:All Together
DTSTART;TZID=Europe/London:20270206T150000
DTEND;TZID=Europe/London:20270206T160000
DTSTAMP:20260422T030743Z
UID:9357562027-02-06 15:00:00+00:00achurchnearyou
CATEGORIES:
DESCRIPTION:All Together is a free event for children and families which i
 s run on the first Saturday of every month at Christ Church Lower Broadhea
 th from 3pm-4pm. Join us for Bible stories\, crafts\, activities\, songs\,
  cakes and a whole lot of fun!
GEO:-2.278617;52.213109
LOCATION:Christ Church\, Lower Broadheath
URL:http://www.westworcesterbeacon.org.uk
END:VEVENT
BEGIN:VEVENT
SUMMARY:All Together
DTSTART;TZID=Europe/London:20270306T150000
DTEND;TZID=Europe/London:20270306T160000
DTSTAMP:20260422T030743Z
UID:9357562027-03-06 15:00:00+00:00achurchnearyou
CATEGORIES:
DESCRIPTION:All Together is a free event for children and families which i
 s run on the first Saturday of every month at Christ Church Lower Broadhea
 th from 3pm-4pm. Join us for Bible stories\, crafts\, activities\, songs\,
  cakes and a whole lot of fun!
GEO:-2.278617;52.213109
LOCATION:Christ Church\, Lower Broadheath
URL:http://www.westworcesterbeacon.org.uk
END:VEVENT
BEGIN:VEVENT
SUMMARY:All Together
DTSTART;TZID=Europe/London:20270403T150000
DTEND;TZID=Europe/London:20270403T160000
DTSTAMP:20260422T030743Z
UID:9357562027-04-03 15:00:00+01:00achurchnearyou
CATEGORIES:
DESCRIPTION:All Together is a free event for children and families which i
 s run on the first Saturday of every month at Christ Church Lower Broadhea
 th from 3pm-4pm. Join us for Bible stories\, crafts\, activities\, songs\,
  cakes and a whole lot of fun!
GEO:-2.278617;52.213109
LOCATION:Christ Church\, Lower Broadheath
URL:http://www.westworcesterbeacon.org.uk
END:VEVENT
END:VCALENDAR
