BEGIN:VCALENDAR
VERSION:2.0
PRODID:-//achurchnearyou.com//eventfeed//EN
CALSCALE:GREGORIAN
METHOD:PUBLISH
X-WR-TIMEZONE:UTC
BEGIN:VEVENT
SUMMARY:Palm Sunday at Cob House and Fisheries
DTSTART:20250413T100000Z
DTEND:20250413T110000Z
DTSTAMP:20260419T153817Z
UID:10575232025-04-13 10:00:00+00:00achurchnearyou
CATEGORIES:
DESCRIPTION:A Benefice service for Palm Sunday for the WWRT
LOCATION:Cob House and Fisheries
URL:https://www.achurchnearyou.com/church/18630/service-and-events/events/
 1057523/
END:VEVENT
END:VCALENDAR
