BEGIN:VCALENDAR
VERSION:2.0
PRODID:-//achurchnearyou.com//eventfeed//EN
CALSCALE:GREGORIAN
METHOD:PUBLISH
X-WR-TIMEZONE:UTC
BEGIN:VEVENT
SUMMARY:All Age Christmas Day Eucharist
DTSTART:20251225T103000Z
DTEND:20251225T113000Z
DTSTAMP:20260424T122257Z
UID:11047562025-12-25 10:30:00+00:00achurchnearyou
CATEGORIES:
DESCRIPTION:A service with Christmas music and hymns. Join us as we share 
 bread and wine or receive a blessing. Lasts about an hour.
GEO:-2.235218516532902;52.18824655055847
LOCATION:St John-in-Bedwardine
URL:https://www.achurchnearyou.com/church/18634/service-and-events/events/
 1104756/
END:VEVENT
END:VCALENDAR
