BEGIN:VCALENDAR
VERSION:2.0
PRODID:-//achurchnearyou.com//eventfeed//EN
CALSCALE:GREGORIAN
METHOD:PUBLISH
X-WR-TIMEZONE:UTC
BEGIN:VEVENT
SUMMARY:The Elgar Chorale of Worcester concert 'GOD IS GONE UP'
DTSTART:20250405T183000Z
DTEND:20250405T203000Z
DTSTAMP:20260425T001801Z
UID:11725282025-04-05 18:30:00+00:00achurchnearyou
CATEGORIES:
DESCRIPTION:A concert of Music by the British composers Finzi\, Parry\, St
 anford and Walton.
GEO:-2.235218516532902;52.18824655055847
LOCATION:St John-in-Bedwardine
URL:https://www.achurchnearyou.com/church/18634/service-and-events/events/
 1172528/
END:VEVENT
END:VCALENDAR
