BEGIN:VCALENDAR
VERSION:2.0
PRODID:-//achurchnearyou.com//eventfeed//EN
CALSCALE:GREGORIAN
METHOD:PUBLISH
X-WR-TIMEZONE:UTC
BEGIN:VEVENT
SUMMARY:Morning Worship for the Sunday after Easter
DTSTART:20260412T093000Z
DTEND:20260412T103000Z
DTSTAMP:20260424T051616Z
UID:11956302026-04-12 09:30:00+00:00achurchnearyou
CATEGORIES:
DESCRIPTION:Morning Worship for the Sunday after Easter.
GEO:-2.235218516532902;52.18824655055847
LOCATION:St John-in-Bedwardine
URL:https://www.achurchnearyou.com/church/18634/service-and-events/events/
 1195630/
END:VEVENT
END:VCALENDAR
