BEGIN:VCALENDAR
VERSION:2.0
PRODID:-//achurchnearyou.com//eventfeed//EN
CALSCALE:GREGORIAN
METHOD:PUBLISH
X-WR-TIMEZONE:UTC
BEGIN:VEVENT
SUMMARY:Harvest Service
DTSTART:20250928T094500Z
DTEND:20250928T104500Z
DTSTAMP:20260421T092255Z
UID:12243482025-09-28 09:45:00+00:00achurchnearyou
CATEGORIES:
DESCRIPTION:A special Harvest Service for the village of Ashton Under Hill
GEO:-2.006158;52.037802
LOCATION:St Barbara's
URL:https://www.achurchnearyou.com/church/18664/service-and-events/events/
 1224348/
END:VEVENT
END:VCALENDAR
