BEGIN:VCALENDAR
VERSION:2.0
PRODID:-//achurchnearyou.com//eventfeed//EN
CALSCALE:GREGORIAN
METHOD:PUBLISH
X-WR-TIMEZONE:UTC
BEGIN:VEVENT
SUMMARY:School Gold Book Service
DTSTART:20260522T130000Z
DTEND:20260522T140000Z
DTSTAMP:20260425T005119Z
UID:12794462026-05-22 13:00:00+00:00achurchnearyou
CATEGORIES:
DESCRIPTION:Celebration of Children's activities and achievements.
GEO:-2.300364;52.033304
LOCATION:St Gregory
URL:https://www.achurchnearyou.com/church/18669/service-and-events/events/
 1279446/
END:VEVENT
END:VCALENDAR
