BEGIN:VCALENDAR
VERSION:2.0
PRODID:-//achurchnearyou.com//eventfeed//EN
CALSCALE:GREGORIAN
METHOD:PUBLISH
X-WR-TIMEZONE:UTC
BEGIN:VEVENT
SUMMARY:Contemplative Stations of the Cross
DTSTART;TZID=Europe/London:20260401T103000
DTEND;TZID=Europe/London:20260401T113000
DTSTAMP:20260421T034351Z
UID:13173031775035800.0achurchnearyou
CATEGORIES:
DESCRIPTION:A Quiet reflective stations of the cross.
GEO:-2.218903;52.227576
LOCATION:St John Baptist Church\, Claines
URL:https://www.achurchnearyou.com/church/18689/service-and-events/events/
 1317303/
END:VEVENT
BEGIN:VEVENT
SUMMARY:Stripping of the Altar
DTSTART;TZID=Europe/London:20260402T170000
DTEND;TZID=Europe/London:20260402T180000
DTSTAMP:20260421T034351Z
UID:2867051775145600.0achurchnearyou
CATEGORIES:
DESCRIPTION:A short service for Maundy Thursday
GEO:-2.218903;52.227576
LOCATION:St John Baptist Church\, Claines
URL:https://www.achurchnearyou.com/church/18689/service-and-events/events/
 286705/
END:VEVENT
BEGIN:VEVENT
SUMMARY:Good Friday All Age Service
DTSTART;TZID=Europe/London:20260403T140000
DTEND;TZID=Europe/London:20260403T150000
DTSTAMP:20260421T034351Z
UID:2410891775221200.0achurchnearyou
CATEGORIES:
DESCRIPTION:A service for Good Friday
GEO:-2.218903;52.227576
LOCATION:St John Baptist Church\, Claines
URL:https://www.achurchnearyou.com/church/18689/service-and-events/events/
 241089/
END:VEVENT
BEGIN:VEVENT
SUMMARY:Sunday Morning Prayer via Zoom
DTSTART;TZID=Europe/London:20260405T091500
DTEND;TZID=Europe/London:20260405T094500
DTSTAMP:20260421T034351Z
UID:11660701775376900.0achurchnearyou
CATEGORIES:
DESCRIPTION:A service over Zoom\, that includes prayers\, readings and ref
 lections.\n\nContact Tammara for the link - claines.stgeorge@gmail.com
GEO:-2.218903;52.227576
LOCATION:St John Baptist Church\, Claines
URL:https://www.achurchnearyou.com/church/18689/service-and-events/events/
 1166070/
END:VEVENT
BEGIN:VEVENT
SUMMARY:Easter Day Service
DTSTART;TZID=Europe/London:20260405T103000
DTEND;TZID=Europe/London:20260405T113000
DTSTAMP:20260421T034351Z
UID:2867031775381400.0achurchnearyou
CATEGORIES:
DESCRIPTION:A service for Easter Sunday.
GEO:-2.218903;52.227576
LOCATION:St John Baptist Church\, Claines
URL:https://www.achurchnearyou.com/church/18689/service-and-events/events/
 286703/
END:VEVENT
BEGIN:VEVENT
SUMMARY:Sunday Morning Prayer via Zoom
DTSTART;TZID=Europe/London:20260412T091500
DTEND;TZID=Europe/London:20260412T094500
DTSTAMP:20260421T034351Z
UID:11660701775981700.0achurchnearyou
CATEGORIES:
DESCRIPTION:A service over Zoom\, that includes prayers\, readings and ref
 lections.\n\nContact Tammara for the link - claines.stgeorge@gmail.com
GEO:-2.218903;52.227576
LOCATION:St John Baptist Church\, Claines
URL:https://www.achurchnearyou.com/church/18689/service-and-events/events/
 1166070/
END:VEVENT
BEGIN:VEVENT
SUMMARY:Sunday Morning Prayer via Zoom
DTSTART;TZID=Europe/London:20260419T091500
DTEND;TZID=Europe/London:20260419T094500
DTSTAMP:20260421T034351Z
UID:11660701776586500.0achurchnearyou
CATEGORIES:
DESCRIPTION:A service over Zoom\, that includes prayers\, readings and ref
 lections.\n\nContact Tammara for the link - claines.stgeorge@gmail.com
GEO:-2.218903;52.227576
LOCATION:St John Baptist Church\, Claines
URL:https://www.achurchnearyou.com/church/18689/service-and-events/events/
 1166070/
END:VEVENT
BEGIN:VEVENT
SUMMARY:Café Church
DTSTART;TZID=Europe/London:20260419T103000
DTEND;TZID=Europe/London:20260419T113000
DTSTAMP:20260421T034351Z
UID:9022151776591000.0achurchnearyou
CATEGORIES:
DESCRIPTION:Come and share a great coffee or tea with warm toast and fresh
  fruit.\nWe invite you to a new start to Sunday where families of all ages
  can share music and conversations about life and faith\, within a relaxed
  café setting.
LOCATION:Claines Parish Hall
URL:https://www.achurchnearyou.com/church/18689/service-and-events/events/
 902215/
END:VEVENT
BEGIN:VEVENT
SUMMARY:Devotions at Dusk
DTSTART;TZID=Europe/London:20260419T163000
DTEND;TZID=Europe/London:20260419T173000
DTSTAMP:20260421T034351Z
UID:9254861776612600.0achurchnearyou
CATEGORIES:
DESCRIPTION:Devotions
GEO:-2.218903;52.227576
LOCATION:St John Baptist Church\, Claines
URL:https://www.achurchnearyou.com/church/18689/service-and-events/events/
 925486/
END:VEVENT
BEGIN:VEVENT
SUMMARY:BUBBLE CHURCH
DTSTART;TZID=Europe/London:20260426T084500
DTEND;TZID=Europe/London:20260426T094500
DTSTAMP:20260421T034351Z
UID:12741261777189500.0achurchnearyou
CATEGORIES:
DESCRIPTION:Bubble Church is a Sunday church service especially for babies
 \, toddlers\, and young families.\nIt's a puppet-packed\, Jesus-centred\, 
 coffee-and-croissant-fuelled\, 30 minute kids and families adventure.\n\nH
 ere's the deal: you turn up 10-15 mins before it starts (from 8.45am) for 
 a croissant or pain au \nchocolate and a coffee\, then at 9.30am you'll be
  guided to a 'bubble'\, and you and your little\nones will share in 30 min
 s of song\, story\, puppets\, and prayer.\n\nBooking is advisable but not 
 essential – the main thing is you come along and give it a try!\n\nIf yo
 u have any queries\, use our contact form to get in touch.
GEO:-2.218903;52.227576
LOCATION:St John Baptist Church\, Claines
URL:https://www.achurchnearyou.com/church/18689/service-and-events/events/
 1274126/
END:VEVENT
BEGIN:VEVENT
SUMMARY:Sunday Morning Prayer via Zoom
DTSTART;TZID=Europe/London:20260426T091500
DTEND;TZID=Europe/London:20260426T094500
DTSTAMP:20260421T034351Z
UID:11660701777191300.0achurchnearyou
CATEGORIES:
DESCRIPTION:A service over Zoom\, that includes prayers\, readings and ref
 lections.\n\nContact Tammara for the link - claines.stgeorge@gmail.com
GEO:-2.218903;52.227576
LOCATION:St John Baptist Church\, Claines
URL:https://www.achurchnearyou.com/church/18689/service-and-events/events/
 1166070/
END:VEVENT
BEGIN:VEVENT
SUMMARY:Holy Communion
DTSTART;TZID=Europe/London:20260426T103000
DTEND;TZID=Europe/London:20260426T113000
DTSTAMP:20260421T034351Z
UID:2333271777195800.0achurchnearyou
CATEGORIES:
DESCRIPTION:Everyone is welcome to receive bread (gluten free available) &
  wine or a blessing.
GEO:-2.218903;52.227576
LOCATION:St John Baptist Church\, Claines
URL:https://www.achurchnearyou.com/church/18689/service-and-events/events/
 233327/
END:VEVENT
BEGIN:VEVENT
SUMMARY:Sunday Morning Prayer via Zoom
DTSTART;TZID=Europe/London:20260503T091500
DTEND;TZID=Europe/London:20260503T094500
DTSTAMP:20260421T034351Z
UID:11660701777796100.0achurchnearyou
CATEGORIES:
DESCRIPTION:A service over Zoom\, that includes prayers\, readings and ref
 lections.\n\nContact Tammara for the link - claines.stgeorge@gmail.com
GEO:-2.218903;52.227576
LOCATION:St John Baptist Church\, Claines
URL:https://www.achurchnearyou.com/church/18689/service-and-events/events/
 1166070/
END:VEVENT
BEGIN:VEVENT
SUMMARY:Morning Praise
DTSTART;TZID=Europe/London:20260503T103000
DTEND;TZID=Europe/London:20260503T113000
DTSTAMP:20260421T034351Z
UID:12082161777800600.0achurchnearyou
CATEGORIES:
DESCRIPTION:A service of Praise
GEO:-2.218903;52.227576
LOCATION:St John Baptist Church\, Claines
URL:https://www.achurchnearyou.com/church/18689/service-and-events/events/
 1208216/
END:VEVENT
BEGIN:VEVENT
SUMMARY:Sunday Morning Prayer via Zoom
DTSTART;TZID=Europe/London:20260510T091500
DTEND;TZID=Europe/London:20260510T094500
DTSTAMP:20260421T034351Z
UID:11660701778400900.0achurchnearyou
CATEGORIES:
DESCRIPTION:A service over Zoom\, that includes prayers\, readings and ref
 lections.\n\nContact Tammara for the link - claines.stgeorge@gmail.com
GEO:-2.218903;52.227576
LOCATION:St John Baptist Church\, Claines
URL:https://www.achurchnearyou.com/church/18689/service-and-events/events/
 1166070/
END:VEVENT
BEGIN:VEVENT
SUMMARY:Holy Communion
DTSTART;TZID=Europe/London:20260510T103000
DTEND;TZID=Europe/London:20260510T113000
DTSTAMP:20260421T034351Z
UID:2333271778405400.0achurchnearyou
CATEGORIES:
DESCRIPTION:Everyone is welcome to receive bread (gluten free available) &
  wine or a blessing.
GEO:-2.218903;52.227576
LOCATION:St John Baptist Church\, Claines
URL:https://www.achurchnearyou.com/church/18689/service-and-events/events/
 233327/
END:VEVENT
BEGIN:VEVENT
SUMMARY:Morning Prayer
DTSTART;TZID=Europe/London:20260514T103000
DTEND;TZID=Europe/London:20260514T113000
DTSTAMP:20260421T034351Z
UID:9808271778751000.0achurchnearyou
CATEGORIES:
DESCRIPTION:A reflective service of Morning Prayer
GEO:-2.218903;52.227576
LOCATION:St John Baptist Church\, Claines
URL:https://www.achurchnearyou.com/church/18689/service-and-events/events/
 980827/
END:VEVENT
BEGIN:VEVENT
SUMMARY:Sunday Morning Prayer via Zoom
DTSTART;TZID=Europe/London:20260517T091500
DTEND;TZID=Europe/London:20260517T094500
DTSTAMP:20260421T034351Z
UID:11660701779005700.0achurchnearyou
CATEGORIES:
DESCRIPTION:A service over Zoom\, that includes prayers\, readings and ref
 lections.\n\nContact Tammara for the link - claines.stgeorge@gmail.com
GEO:-2.218903;52.227576
LOCATION:St John Baptist Church\, Claines
URL:https://www.achurchnearyou.com/church/18689/service-and-events/events/
 1166070/
END:VEVENT
BEGIN:VEVENT
SUMMARY:Café Church
DTSTART;TZID=Europe/London:20260517T103000
DTEND;TZID=Europe/London:20260517T113000
DTSTAMP:20260421T034351Z
UID:9022151779010200.0achurchnearyou
CATEGORIES:
DESCRIPTION:Come and share a great coffee or tea with warm toast and fresh
  fruit.\nWe invite you to a new start to Sunday where families of all ages
  can share music and conversations about life and faith\, within a relaxed
  café setting.
LOCATION:Claines Parish Hall
URL:https://www.achurchnearyou.com/church/18689/service-and-events/events/
 902215/
END:VEVENT
BEGIN:VEVENT
SUMMARY:Devotions at Dusk
DTSTART;TZID=Europe/London:20260517T163000
DTEND;TZID=Europe/London:20260517T173000
DTSTAMP:20260421T034351Z
UID:9254861779031800.0achurchnearyou
CATEGORIES:
DESCRIPTION:Devotions
GEO:-2.218903;52.227576
LOCATION:St John Baptist Church\, Claines
URL:https://www.achurchnearyou.com/church/18689/service-and-events/events/
 925486/
END:VEVENT
BEGIN:VEVENT
SUMMARY:BCP Service
DTSTART;TZID=Europe/London:20260521T103000
DTEND;TZID=Europe/London:20260521T113000
DTSTAMP:20260421T034351Z
UID:10999891779355800.0achurchnearyou
CATEGORIES:
DESCRIPTION:A service from the Book of Common Prayer
GEO:-2.218903;52.227576
LOCATION:St John Baptist Church\, Claines
URL:https://www.achurchnearyou.com/church/18689/service-and-events/events/
 1099989/
END:VEVENT
BEGIN:VEVENT
SUMMARY:BUBBLE CHURCH
DTSTART;TZID=Europe/London:20260524T084500
DTEND;TZID=Europe/London:20260524T094500
DTSTAMP:20260421T034351Z
UID:12741261779608700.0achurchnearyou
CATEGORIES:
DESCRIPTION:Bubble Church is a Sunday church service especially for babies
 \, toddlers\, and young families.\nIt's a puppet-packed\, Jesus-centred\, 
 coffee-and-croissant-fuelled\, 30 minute kids and families adventure.\n\nH
 ere's the deal: you turn up 10-15 mins before it starts (from 8.45am) for 
 a croissant or pain au \nchocolate and a coffee\, then at 9.30am you'll be
  guided to a 'bubble'\, and you and your little\nones will share in 30 min
 s of song\, story\, puppets\, and prayer.\n\nBooking is advisable but not 
 essential – the main thing is you come along and give it a try!\n\nIf yo
 u have any queries\, use our contact form to get in touch.
GEO:-2.218903;52.227576
LOCATION:St John Baptist Church\, Claines
URL:https://www.achurchnearyou.com/church/18689/service-and-events/events/
 1274126/
END:VEVENT
BEGIN:VEVENT
SUMMARY:Sunday Morning Prayer via Zoom
DTSTART;TZID=Europe/London:20260524T091500
DTEND;TZID=Europe/London:20260524T094500
DTSTAMP:20260421T034351Z
UID:11660701779610500.0achurchnearyou
CATEGORIES:
DESCRIPTION:A service over Zoom\, that includes prayers\, readings and ref
 lections.\n\nContact Tammara for the link - claines.stgeorge@gmail.com
GEO:-2.218903;52.227576
LOCATION:St John Baptist Church\, Claines
URL:https://www.achurchnearyou.com/church/18689/service-and-events/events/
 1166070/
END:VEVENT
BEGIN:VEVENT
SUMMARY:Holy Communion
DTSTART;TZID=Europe/London:20260524T103000
DTEND;TZID=Europe/London:20260524T113000
DTSTAMP:20260421T034351Z
UID:2333271779615000.0achurchnearyou
CATEGORIES:
DESCRIPTION:Everyone is welcome to receive bread (gluten free available) &
  wine or a blessing.
GEO:-2.218903;52.227576
LOCATION:St John Baptist Church\, Claines
URL:https://www.achurchnearyou.com/church/18689/service-and-events/events/
 233327/
END:VEVENT
BEGIN:VEVENT
SUMMARY:Sunday Morning Prayer via Zoom
DTSTART;TZID=Europe/London:20260531T091500
DTEND;TZID=Europe/London:20260531T094500
DTSTAMP:20260421T034351Z
UID:11660701780215300.0achurchnearyou
CATEGORIES:
DESCRIPTION:A service over Zoom\, that includes prayers\, readings and ref
 lections.\n\nContact Tammara for the link - claines.stgeorge@gmail.com
GEO:-2.218903;52.227576
LOCATION:St John Baptist Church\, Claines
URL:https://www.achurchnearyou.com/church/18689/service-and-events/events/
 1166070/
END:VEVENT
BEGIN:VEVENT
SUMMARY:Holy Communion
DTSTART;TZID=Europe/London:20260531T103000
DTEND;TZID=Europe/London:20260531T113000
DTSTAMP:20260421T034351Z
UID:2333271780219800.0achurchnearyou
CATEGORIES:
DESCRIPTION:Everyone is welcome to receive bread (gluten free available) &
  wine or a blessing.
GEO:-2.218903;52.227576
LOCATION:St John Baptist Church\, Claines
URL:https://www.achurchnearyou.com/church/18689/service-and-events/events/
 233327/
END:VEVENT
BEGIN:VEVENT
SUMMARY:Sunday Morning Prayer via Zoom
DTSTART;TZID=Europe/London:20260607T091500
DTEND;TZID=Europe/London:20260607T094500
DTSTAMP:20260421T034351Z
UID:11660701780820100.0achurchnearyou
CATEGORIES:
DESCRIPTION:A service over Zoom\, that includes prayers\, readings and ref
 lections.\n\nContact Tammara for the link - claines.stgeorge@gmail.com
GEO:-2.218903;52.227576
LOCATION:St John Baptist Church\, Claines
URL:https://www.achurchnearyou.com/church/18689/service-and-events/events/
 1166070/
END:VEVENT
BEGIN:VEVENT
SUMMARY:Morning Praise
DTSTART;TZID=Europe/London:20260607T103000
DTEND;TZID=Europe/London:20260607T113000
DTSTAMP:20260421T034351Z
UID:12082161780824600.0achurchnearyou
CATEGORIES:
DESCRIPTION:A service of Praise
GEO:-2.218903;52.227576
LOCATION:St John Baptist Church\, Claines
URL:https://www.achurchnearyou.com/church/18689/service-and-events/events/
 1208216/
END:VEVENT
BEGIN:VEVENT
SUMMARY:Morning Prayer
DTSTART;TZID=Europe/London:20260611T103000
DTEND;TZID=Europe/London:20260611T113000
DTSTAMP:20260421T034351Z
UID:9808271781170200.0achurchnearyou
CATEGORIES:
DESCRIPTION:A reflective service of Morning Prayer
GEO:-2.218903;52.227576
LOCATION:St John Baptist Church\, Claines
URL:https://www.achurchnearyou.com/church/18689/service-and-events/events/
 980827/
END:VEVENT
BEGIN:VEVENT
SUMMARY:Sunday Morning Prayer via Zoom
DTSTART;TZID=Europe/London:20260614T091500
DTEND;TZID=Europe/London:20260614T094500
DTSTAMP:20260421T034351Z
UID:11660701781424900.0achurchnearyou
CATEGORIES:
DESCRIPTION:A service over Zoom\, that includes prayers\, readings and ref
 lections.\n\nContact Tammara for the link - claines.stgeorge@gmail.com
GEO:-2.218903;52.227576
LOCATION:St John Baptist Church\, Claines
URL:https://www.achurchnearyou.com/church/18689/service-and-events/events/
 1166070/
END:VEVENT
BEGIN:VEVENT
SUMMARY:Holy Communion
DTSTART;TZID=Europe/London:20260614T103000
DTEND;TZID=Europe/London:20260614T113000
DTSTAMP:20260421T034351Z
UID:2333271781429400.0achurchnearyou
CATEGORIES:
DESCRIPTION:Everyone is welcome to receive bread (gluten free available) &
  wine or a blessing.
GEO:-2.218903;52.227576
LOCATION:St John Baptist Church\, Claines
URL:https://www.achurchnearyou.com/church/18689/service-and-events/events/
 233327/
END:VEVENT
BEGIN:VEVENT
SUMMARY:BCP Service
DTSTART;TZID=Europe/London:20260618T103000
DTEND;TZID=Europe/London:20260618T113000
DTSTAMP:20260421T034351Z
UID:10999891781775000.0achurchnearyou
CATEGORIES:
DESCRIPTION:A service from the Book of Common Prayer
GEO:-2.218903;52.227576
LOCATION:St John Baptist Church\, Claines
URL:https://www.achurchnearyou.com/church/18689/service-and-events/events/
 1099989/
END:VEVENT
BEGIN:VEVENT
SUMMARY:Sunday Morning Prayer via Zoom
DTSTART;TZID=Europe/London:20260621T091500
DTEND;TZID=Europe/London:20260621T094500
DTSTAMP:20260421T034351Z
UID:11660701782029700.0achurchnearyou
CATEGORIES:
DESCRIPTION:A service over Zoom\, that includes prayers\, readings and ref
 lections.\n\nContact Tammara for the link - claines.stgeorge@gmail.com
GEO:-2.218903;52.227576
LOCATION:St John Baptist Church\, Claines
URL:https://www.achurchnearyou.com/church/18689/service-and-events/events/
 1166070/
END:VEVENT
BEGIN:VEVENT
SUMMARY:Café Church
DTSTART;TZID=Europe/London:20260621T103000
DTEND;TZID=Europe/London:20260621T113000
DTSTAMP:20260421T034351Z
UID:9022151782034200.0achurchnearyou
CATEGORIES:
DESCRIPTION:Come and share a great coffee or tea with warm toast and fresh
  fruit.\nWe invite you to a new start to Sunday where families of all ages
  can share music and conversations about life and faith\, within a relaxed
  café setting.
LOCATION:Claines Parish Hall
URL:https://www.achurchnearyou.com/church/18689/service-and-events/events/
 902215/
END:VEVENT
BEGIN:VEVENT
SUMMARY:Devotions at Dusk
DTSTART;TZID=Europe/London:20260621T163000
DTEND;TZID=Europe/London:20260621T173000
DTSTAMP:20260421T034351Z
UID:9254861782055800.0achurchnearyou
CATEGORIES:
DESCRIPTION:Devotions
GEO:-2.218903;52.227576
LOCATION:St John Baptist Church\, Claines
URL:https://www.achurchnearyou.com/church/18689/service-and-events/events/
 925486/
END:VEVENT
BEGIN:VEVENT
SUMMARY:BUBBLE CHURCH
DTSTART;TZID=Europe/London:20260628T084500
DTEND;TZID=Europe/London:20260628T094500
DTSTAMP:20260421T034351Z
UID:12741261782632700.0achurchnearyou
CATEGORIES:
DESCRIPTION:Bubble Church is a Sunday church service especially for babies
 \, toddlers\, and young families.\nIt's a puppet-packed\, Jesus-centred\, 
 coffee-and-croissant-fuelled\, 30 minute kids and families adventure.\n\nH
 ere's the deal: you turn up 10-15 mins before it starts (from 8.45am) for 
 a croissant or pain au \nchocolate and a coffee\, then at 9.30am you'll be
  guided to a 'bubble'\, and you and your little\nones will share in 30 min
 s of song\, story\, puppets\, and prayer.\n\nBooking is advisable but not 
 essential – the main thing is you come along and give it a try!\n\nIf yo
 u have any queries\, use our contact form to get in touch.
GEO:-2.218903;52.227576
LOCATION:St John Baptist Church\, Claines
URL:https://www.achurchnearyou.com/church/18689/service-and-events/events/
 1274126/
END:VEVENT
BEGIN:VEVENT
SUMMARY:Sunday Morning Prayer via Zoom
DTSTART;TZID=Europe/London:20260628T091500
DTEND;TZID=Europe/London:20260628T094500
DTSTAMP:20260421T034351Z
UID:11660701782634500.0achurchnearyou
CATEGORIES:
DESCRIPTION:A service over Zoom\, that includes prayers\, readings and ref
 lections.\n\nContact Tammara for the link - claines.stgeorge@gmail.com
GEO:-2.218903;52.227576
LOCATION:St John Baptist Church\, Claines
URL:https://www.achurchnearyou.com/church/18689/service-and-events/events/
 1166070/
END:VEVENT
BEGIN:VEVENT
SUMMARY:Holy Communion
DTSTART;TZID=Europe/London:20260628T103000
DTEND;TZID=Europe/London:20260628T113000
DTSTAMP:20260421T034351Z
UID:2333271782639000.0achurchnearyou
CATEGORIES:
DESCRIPTION:Everyone is welcome to receive bread (gluten free available) &
  wine or a blessing.
GEO:-2.218903;52.227576
LOCATION:St John Baptist Church\, Claines
URL:https://www.achurchnearyou.com/church/18689/service-and-events/events/
 233327/
END:VEVENT
BEGIN:VEVENT
SUMMARY:Sunday Morning Prayer via Zoom
DTSTART;TZID=Europe/London:20260705T091500
DTEND;TZID=Europe/London:20260705T094500
DTSTAMP:20260421T034351Z
UID:11660701783239300.0achurchnearyou
CATEGORIES:
DESCRIPTION:A service over Zoom\, that includes prayers\, readings and ref
 lections.\n\nContact Tammara for the link - claines.stgeorge@gmail.com
GEO:-2.218903;52.227576
LOCATION:St John Baptist Church\, Claines
URL:https://www.achurchnearyou.com/church/18689/service-and-events/events/
 1166070/
END:VEVENT
BEGIN:VEVENT
SUMMARY:Sunday Morning Prayer via Zoom
DTSTART;TZID=Europe/London:20260712T091500
DTEND;TZID=Europe/London:20260712T094500
DTSTAMP:20260421T034351Z
UID:11660701783844100.0achurchnearyou
CATEGORIES:
DESCRIPTION:A service over Zoom\, that includes prayers\, readings and ref
 lections.\n\nContact Tammara for the link - claines.stgeorge@gmail.com
GEO:-2.218903;52.227576
LOCATION:St John Baptist Church\, Claines
URL:https://www.achurchnearyou.com/church/18689/service-and-events/events/
 1166070/
END:VEVENT
BEGIN:VEVENT
SUMMARY:Sunday Morning Prayer via Zoom
DTSTART;TZID=Europe/London:20260719T091500
DTEND;TZID=Europe/London:20260719T094500
DTSTAMP:20260421T034351Z
UID:11660701784448900.0achurchnearyou
CATEGORIES:
DESCRIPTION:A service over Zoom\, that includes prayers\, readings and ref
 lections.\n\nContact Tammara for the link - claines.stgeorge@gmail.com
GEO:-2.218903;52.227576
LOCATION:St John Baptist Church\, Claines
URL:https://www.achurchnearyou.com/church/18689/service-and-events/events/
 1166070/
END:VEVENT
BEGIN:VEVENT
SUMMARY:BUBBLE CHURCH
DTSTART;TZID=Europe/London:20260726T084500
DTEND;TZID=Europe/London:20260726T094500
DTSTAMP:20260421T034351Z
UID:12741261785051900.0achurchnearyou
CATEGORIES:
DESCRIPTION:Bubble Church is a Sunday church service especially for babies
 \, toddlers\, and young families.\nIt's a puppet-packed\, Jesus-centred\, 
 coffee-and-croissant-fuelled\, 30 minute kids and families adventure.\n\nH
 ere's the deal: you turn up 10-15 mins before it starts (from 8.45am) for 
 a croissant or pain au \nchocolate and a coffee\, then at 9.30am you'll be
  guided to a 'bubble'\, and you and your little\nones will share in 30 min
 s of song\, story\, puppets\, and prayer.\n\nBooking is advisable but not 
 essential – the main thing is you come along and give it a try!\n\nIf yo
 u have any queries\, use our contact form to get in touch.
GEO:-2.218903;52.227576
LOCATION:St John Baptist Church\, Claines
URL:https://www.achurchnearyou.com/church/18689/service-and-events/events/
 1274126/
END:VEVENT
BEGIN:VEVENT
SUMMARY:Sunday Morning Prayer via Zoom
DTSTART;TZID=Europe/London:20260726T091500
DTEND;TZID=Europe/London:20260726T094500
DTSTAMP:20260421T034351Z
UID:11660701785053700.0achurchnearyou
CATEGORIES:
DESCRIPTION:A service over Zoom\, that includes prayers\, readings and ref
 lections.\n\nContact Tammara for the link - claines.stgeorge@gmail.com
GEO:-2.218903;52.227576
LOCATION:St John Baptist Church\, Claines
URL:https://www.achurchnearyou.com/church/18689/service-and-events/events/
 1166070/
END:VEVENT
BEGIN:VEVENT
SUMMARY:Sunday Morning Prayer via Zoom
DTSTART;TZID=Europe/London:20260802T091500
DTEND;TZID=Europe/London:20260802T094500
DTSTAMP:20260421T034351Z
UID:11660701785658500.0achurchnearyou
CATEGORIES:
DESCRIPTION:A service over Zoom\, that includes prayers\, readings and ref
 lections.\n\nContact Tammara for the link - claines.stgeorge@gmail.com
GEO:-2.218903;52.227576
LOCATION:St John Baptist Church\, Claines
URL:https://www.achurchnearyou.com/church/18689/service-and-events/events/
 1166070/
END:VEVENT
BEGIN:VEVENT
SUMMARY:Sunday Morning Prayer via Zoom
DTSTART;TZID=Europe/London:20260809T091500
DTEND;TZID=Europe/London:20260809T094500
DTSTAMP:20260421T034351Z
UID:11660701786263300.0achurchnearyou
CATEGORIES:
DESCRIPTION:A service over Zoom\, that includes prayers\, readings and ref
 lections.\n\nContact Tammara for the link - claines.stgeorge@gmail.com
GEO:-2.218903;52.227576
LOCATION:St John Baptist Church\, Claines
URL:https://www.achurchnearyou.com/church/18689/service-and-events/events/
 1166070/
END:VEVENT
BEGIN:VEVENT
SUMMARY:Sunday Morning Prayer via Zoom
DTSTART;TZID=Europe/London:20260816T091500
DTEND;TZID=Europe/London:20260816T094500
DTSTAMP:20260421T034351Z
UID:11660701786868100.0achurchnearyou
CATEGORIES:
DESCRIPTION:A service over Zoom\, that includes prayers\, readings and ref
 lections.\n\nContact Tammara for the link - claines.stgeorge@gmail.com
GEO:-2.218903;52.227576
LOCATION:St John Baptist Church\, Claines
URL:https://www.achurchnearyou.com/church/18689/service-and-events/events/
 1166070/
END:VEVENT
BEGIN:VEVENT
SUMMARY:Sunday Morning Prayer via Zoom
DTSTART;TZID=Europe/London:20260823T091500
DTEND;TZID=Europe/London:20260823T094500
DTSTAMP:20260421T034351Z
UID:11660701787472900.0achurchnearyou
CATEGORIES:
DESCRIPTION:A service over Zoom\, that includes prayers\, readings and ref
 lections.\n\nContact Tammara for the link - claines.stgeorge@gmail.com
GEO:-2.218903;52.227576
LOCATION:St John Baptist Church\, Claines
URL:https://www.achurchnearyou.com/church/18689/service-and-events/events/
 1166070/
END:VEVENT
BEGIN:VEVENT
SUMMARY:Sunday Morning Prayer via Zoom
DTSTART;TZID=Europe/London:20260830T091500
DTEND;TZID=Europe/London:20260830T094500
DTSTAMP:20260421T034351Z
UID:11660701788077700.0achurchnearyou
CATEGORIES:
DESCRIPTION:A service over Zoom\, that includes prayers\, readings and ref
 lections.\n\nContact Tammara for the link - claines.stgeorge@gmail.com
GEO:-2.218903;52.227576
LOCATION:St John Baptist Church\, Claines
URL:https://www.achurchnearyou.com/church/18689/service-and-events/events/
 1166070/
END:VEVENT
BEGIN:VEVENT
SUMMARY:Sunday Morning Prayer via Zoom
DTSTART;TZID=Europe/London:20260906T091500
DTEND;TZID=Europe/London:20260906T094500
DTSTAMP:20260421T034351Z
UID:11660701788682500.0achurchnearyou
CATEGORIES:
DESCRIPTION:A service over Zoom\, that includes prayers\, readings and ref
 lections.\n\nContact Tammara for the link - claines.stgeorge@gmail.com
GEO:-2.218903;52.227576
LOCATION:St John Baptist Church\, Claines
URL:https://www.achurchnearyou.com/church/18689/service-and-events/events/
 1166070/
END:VEVENT
BEGIN:VEVENT
SUMMARY:Sunday Morning Prayer via Zoom
DTSTART;TZID=Europe/London:20260913T091500
DTEND;TZID=Europe/London:20260913T094500
DTSTAMP:20260421T034351Z
UID:11660701789287300.0achurchnearyou
CATEGORIES:
DESCRIPTION:A service over Zoom\, that includes prayers\, readings and ref
 lections.\n\nContact Tammara for the link - claines.stgeorge@gmail.com
GEO:-2.218903;52.227576
LOCATION:St John Baptist Church\, Claines
URL:https://www.achurchnearyou.com/church/18689/service-and-events/events/
 1166070/
END:VEVENT
BEGIN:VEVENT
SUMMARY:Sunday Morning Prayer via Zoom
DTSTART;TZID=Europe/London:20260920T091500
DTEND;TZID=Europe/London:20260920T094500
DTSTAMP:20260421T034351Z
UID:11660701789892100.0achurchnearyou
CATEGORIES:
DESCRIPTION:A service over Zoom\, that includes prayers\, readings and ref
 lections.\n\nContact Tammara for the link - claines.stgeorge@gmail.com
GEO:-2.218903;52.227576
LOCATION:St John Baptist Church\, Claines
URL:https://www.achurchnearyou.com/church/18689/service-and-events/events/
 1166070/
END:VEVENT
BEGIN:VEVENT
SUMMARY:Sunday Morning Prayer via Zoom
DTSTART;TZID=Europe/London:20260927T091500
DTEND;TZID=Europe/London:20260927T094500
DTSTAMP:20260421T034351Z
UID:11660701790496900.0achurchnearyou
CATEGORIES:
DESCRIPTION:A service over Zoom\, that includes prayers\, readings and ref
 lections.\n\nContact Tammara for the link - claines.stgeorge@gmail.com
GEO:-2.218903;52.227576
LOCATION:St John Baptist Church\, Claines
URL:https://www.achurchnearyou.com/church/18689/service-and-events/events/
 1166070/
END:VEVENT
END:VCALENDAR
