BEGIN:VCALENDAR
VERSION:2.0
PRODID:-//achurchnearyou.com//eventfeed//EN
CALSCALE:GREGORIAN
METHOD:PUBLISH
X-WR-TIMEZONE:UTC
BEGIN:VEVENT
SUMMARY:Evening Eucharist for Maundy Thursday
DTSTART:20260402T180000Z
DTEND:20260402T190000Z
DTSTAMP:20260425T005119Z
UID:13022922026-04-02 18:00:00+00:00achurchnearyou
CATEGORIES:
DESCRIPTION:Evening Eucharist
GEO:-2.207174;52.205287
LOCATION:St Barnabas
URL:https://www.achurchnearyou.com/church/18691/service-and-events/events/
 1302292/
END:VEVENT
END:VCALENDAR
