BEGIN:VCALENDAR
VERSION:2.0
PRODID:-//achurchnearyou.com//eventfeed//EN
CALSCALE:GREGORIAN
METHOD:PUBLISH
X-WR-TIMEZONE:UTC
BEGIN:VEVENT
SUMMARY:Remembrance Sunday
DTSTART:20251109T103000Z
DTEND:20251109T113000Z
DTSTAMP:20260421T121434Z
UID:12336952025-11-09 10:30:00+00:00achurchnearyou
CATEGORIES:
DESCRIPTION:Remembrance Day service at 10:50.\nThis follows a procession d
 own the High Street which starts at 10:30.\nThe service is then at the war
  memorial on Crown Close.
GEO:-2.064603;52.334617
LOCATION:St John the Baptist
URL:https://www.achurchnearyou.com/church/18705/service-and-events/events/
 1233695/
END:VEVENT
END:VCALENDAR
