BEGIN:VCALENDAR
VERSION:2.0
PRODID:-//achurchnearyou.com//eventfeed//EN
CALSCALE:GREGORIAN
METHOD:PUBLISH
X-WR-TIMEZONE:UTC
BEGIN:VEVENT
SUMMARY:Christingle
DTSTART:20251206T170000Z
DTEND:20251206T180000Z
DTSTAMP:20260421T103051Z
UID:12553902025-12-06 17:00:00+00:00achurchnearyou
CATEGORIES:
DESCRIPTION:A magical service where children of all ages come and make a C
 hristingle and a service where we remember the light of God in the darknes
 s.
GEO:-2.064603;52.334617
LOCATION:St John the Baptist
URL:https://www.achurchnearyou.com/church/18705/service-and-events/events/
 1255390/
END:VEVENT
END:VCALENDAR
