BEGIN:VCALENDAR
VERSION:2.0
PRODID:-//achurchnearyou.com//eventfeed//EN
CALSCALE:GREGORIAN
METHOD:PUBLISH
X-WR-TIMEZONE:UTC
BEGIN:VEVENT
SUMMARY:All Age Family Worship
DTSTART:20250727T094500Z
DTEND:20250727T104500Z
DTSTAMP:20260421T172020Z
UID:1280332025-07-27 09:45:00+00:00achurchnearyou
CATEGORIES:
DESCRIPTION:A relaxed yet structured All Age\, family friendly sunday wors
 hip.  Spiritual and fresh\, with our music group leading our singing\, thi
 s wonderful service of the word is both delightful and thought-provoking. 
 This is often the service in which we welcome those who are being baptised
 .\n\nThe service is held in the hall.\, next to the church
LOCATION:St John Church Hall
URL:https://www.achurchnearyou.com/church/18705/service-and-events/events/
 128033/
END:VEVENT
END:VCALENDAR
