BEGIN:VCALENDAR
VERSION:2.0
PRODID:-//achurchnearyou.com//eventfeed//EN
CALSCALE:GREGORIAN
METHOD:PUBLISH
X-WR-TIMEZONE:UTC
BEGIN:VEVENT
SUMMARY:Service of Thanksgiving & Celebration
DTSTART:20260414T180000Z
DTEND:20260414T190000Z
DTSTAMP:20260421T023209Z
UID:13220612026-04-14 18:00:00+00:00achurchnearyou
CATEGORIES:
DESCRIPTION:Marking the completion of the restoration of the tower and spi
 re.\nPreacher: The Right Reverend Hugh Nelson\, Bishop of Worcester
GEO:-2.064603;52.334617
LOCATION:St John the Baptist
URL:https://www.achurchnearyou.com/church/18705/service-and-events/events/
 1322061/
END:VEVENT
END:VCALENDAR
