BEGIN:VCALENDAR
VERSION:2.0
PRODID:-//achurchnearyou.com//eventfeed//EN
CALSCALE:GREGORIAN
METHOD:PUBLISH
X-WR-TIMEZONE:UTC
BEGIN:VEVENT
SUMMARY:Choral Evensong
DTSTART;TZID=Europe/London:20260503T180000
DTEND;TZID=Europe/London:20260503T184000
DTSTAMP:20260420T225544Z
UID:2787372026-05-03 18:00:00+01:00achurchnearyou
CATEGORIES:
DESCRIPTION:A traditional BCP Choral Evensong
GEO:-2.064603;52.334617
LOCATION:St John the Baptist
URL:https://www.achurchnearyou.com/church/18705/service-and-events/events/
 278737/
END:VEVENT
BEGIN:VEVENT
SUMMARY:Choral Evensong
DTSTART;TZID=Europe/London:20260607T180000
DTEND;TZID=Europe/London:20260607T184000
DTSTAMP:20260420T225544Z
UID:2787372026-06-07 18:00:00+01:00achurchnearyou
CATEGORIES:
DESCRIPTION:A traditional BCP Choral Evensong
GEO:-2.064603;52.334617
LOCATION:St John the Baptist
URL:https://www.achurchnearyou.com/church/18705/service-and-events/events/
 278737/
END:VEVENT
BEGIN:VEVENT
SUMMARY:Choral Evensong
DTSTART;TZID=Europe/London:20260705T180000
DTEND;TZID=Europe/London:20260705T184000
DTSTAMP:20260420T225544Z
UID:2787372026-07-05 18:00:00+01:00achurchnearyou
CATEGORIES:
DESCRIPTION:A traditional BCP Choral Evensong
GEO:-2.064603;52.334617
LOCATION:St John the Baptist
URL:https://www.achurchnearyou.com/church/18705/service-and-events/events/
 278737/
END:VEVENT
BEGIN:VEVENT
SUMMARY:Choral Evensong
DTSTART;TZID=Europe/London:20260802T180000
DTEND;TZID=Europe/London:20260802T184000
DTSTAMP:20260420T225544Z
UID:2787372026-08-02 18:00:00+01:00achurchnearyou
CATEGORIES:
DESCRIPTION:A traditional BCP Choral Evensong
GEO:-2.064603;52.334617
LOCATION:St John the Baptist
URL:https://www.achurchnearyou.com/church/18705/service-and-events/events/
 278737/
END:VEVENT
BEGIN:VEVENT
SUMMARY:Choral Evensong
DTSTART;TZID=Europe/London:20260906T180000
DTEND;TZID=Europe/London:20260906T184000
DTSTAMP:20260420T225544Z
UID:2787372026-09-06 18:00:00+01:00achurchnearyou
CATEGORIES:
DESCRIPTION:A traditional BCP Choral Evensong
GEO:-2.064603;52.334617
LOCATION:St John the Baptist
URL:https://www.achurchnearyou.com/church/18705/service-and-events/events/
 278737/
END:VEVENT
BEGIN:VEVENT
SUMMARY:Choral Evensong
DTSTART;TZID=Europe/London:20261004T180000
DTEND;TZID=Europe/London:20261004T184000
DTSTAMP:20260420T225544Z
UID:2787372026-10-04 18:00:00+01:00achurchnearyou
CATEGORIES:
DESCRIPTION:A traditional BCP Choral Evensong
GEO:-2.064603;52.334617
LOCATION:St John the Baptist
URL:https://www.achurchnearyou.com/church/18705/service-and-events/events/
 278737/
END:VEVENT
BEGIN:VEVENT
SUMMARY:Choral Evensong
DTSTART;TZID=Europe/London:20261101T180000
DTEND;TZID=Europe/London:20261101T184000
DTSTAMP:20260420T225544Z
UID:2787372026-11-01 18:00:00+00:00achurchnearyou
CATEGORIES:
DESCRIPTION:A traditional BCP Choral Evensong
GEO:-2.064603;52.334617
LOCATION:St John the Baptist
URL:https://www.achurchnearyou.com/church/18705/service-and-events/events/
 278737/
END:VEVENT
BEGIN:VEVENT
SUMMARY:Choral Evensong
DTSTART;TZID=Europe/London:20261206T180000
DTEND;TZID=Europe/London:20261206T184000
DTSTAMP:20260420T225544Z
UID:2787372026-12-06 18:00:00+00:00achurchnearyou
CATEGORIES:
DESCRIPTION:A traditional BCP Choral Evensong
GEO:-2.064603;52.334617
LOCATION:St John the Baptist
URL:https://www.achurchnearyou.com/church/18705/service-and-events/events/
 278737/
END:VEVENT
BEGIN:VEVENT
SUMMARY:Choral Evensong
DTSTART;TZID=Europe/London:20270103T180000
DTEND;TZID=Europe/London:20270103T184000
DTSTAMP:20260420T225544Z
UID:2787372027-01-03 18:00:00+00:00achurchnearyou
CATEGORIES:
DESCRIPTION:A traditional BCP Choral Evensong
GEO:-2.064603;52.334617
LOCATION:St John the Baptist
URL:https://www.achurchnearyou.com/church/18705/service-and-events/events/
 278737/
END:VEVENT
BEGIN:VEVENT
SUMMARY:Choral Evensong
DTSTART;TZID=Europe/London:20270207T180000
DTEND;TZID=Europe/London:20270207T184000
DTSTAMP:20260420T225544Z
UID:2787372027-02-07 18:00:00+00:00achurchnearyou
CATEGORIES:
DESCRIPTION:A traditional BCP Choral Evensong
GEO:-2.064603;52.334617
LOCATION:St John the Baptist
URL:https://www.achurchnearyou.com/church/18705/service-and-events/events/
 278737/
END:VEVENT
BEGIN:VEVENT
SUMMARY:Choral Evensong
DTSTART;TZID=Europe/London:20270307T180000
DTEND;TZID=Europe/London:20270307T184000
DTSTAMP:20260420T225544Z
UID:2787372027-03-07 18:00:00+00:00achurchnearyou
CATEGORIES:
DESCRIPTION:A traditional BCP Choral Evensong
GEO:-2.064603;52.334617
LOCATION:St John the Baptist
URL:https://www.achurchnearyou.com/church/18705/service-and-events/events/
 278737/
END:VEVENT
BEGIN:VEVENT
SUMMARY:Choral Evensong
DTSTART;TZID=Europe/London:20270404T180000
DTEND;TZID=Europe/London:20270404T184000
DTSTAMP:20260420T225544Z
UID:2787372027-04-04 18:00:00+01:00achurchnearyou
CATEGORIES:
DESCRIPTION:A traditional BCP Choral Evensong
GEO:-2.064603;52.334617
LOCATION:St John the Baptist
URL:https://www.achurchnearyou.com/church/18705/service-and-events/events/
 278737/
END:VEVENT
END:VCALENDAR
