BEGIN:VCALENDAR
VERSION:2.0
PRODID:-//achurchnearyou.com//eventfeed//EN
CALSCALE:GREGORIAN
METHOD:PUBLISH
X-WR-TIMEZONE:UTC
BEGIN:VEVENT
SUMMARY:All Souls Memorial Service
DTSTART:20251102T160000Z
DTEND:20251102T170000Z
DTSTAMP:20260421T155003Z
UID:12362632025-11-02 16:00:00+00:00achurchnearyou
CATEGORIES:
DESCRIPTION:A service of thanksgiving and remembrance for those we love an
 d who have died.
GEO:-2.046289;52.324275
LOCATION:St Godwald's
URL:https://www.achurchnearyou.com/church/18710/service-and-events/events/
 1236263/
END:VEVENT
END:VCALENDAR
