BEGIN:VCALENDAR
VERSION:2.0
PRODID:-//achurchnearyou.com//eventfeed//EN
CALSCALE:GREGORIAN
METHOD:PUBLISH
X-WR-TIMEZONE:UTC
BEGIN:VEVENT
SUMMARY:Crib and Christingle
DTSTART:20251224T150000Z
DTEND:20251224T160000Z
DTSTAMP:20260421T140102Z
UID:12586512025-12-24 15:00:00+00:00achurchnearyou
CATEGORIES:
DESCRIPTION:Is it a Christingle service or is it a Scratch Nativity?  It's
  both!  Come as you are\, or dressed as a Nativity character.
GEO:-2.046289;52.324275
LOCATION:St Godwald's
URL:https://www.achurchnearyou.com/church/18710/service-and-events/events/
 1258651/
END:VEVENT
END:VCALENDAR
