BEGIN:VCALENDAR
VERSION:2.0
PRODID:-//achurchnearyou.com//eventfeed//EN
CALSCALE:GREGORIAN
METHOD:PUBLISH
X-WR-TIMEZONE:UTC
BEGIN:VEVENT
SUMMARY:Messy Church
DTSTART:20260403T091500Z
DTEND:20260403T104500Z
DTSTAMP:20260421T064150Z
UID:12993022026-04-03 09:15:00+00:00achurchnearyou
CATEGORIES:
DESCRIPTION:Informal worship and lots of craft activities for children wit
 h their parents and carers. Registration from 9.45 for a 10.15 start.
GEO:-2.046289;52.324275
LOCATION:St Godwald's
URL:https://www.achurchnearyou.com/church/18710/service-and-events/events/
 1299302/
END:VEVENT
END:VCALENDAR
