BEGIN:VCALENDAR
VERSION:2.0
PRODID:-//achurchnearyou.com//eventfeed//EN
CALSCALE:GREGORIAN
METHOD:PUBLISH
X-WR-TIMEZONE:UTC
BEGIN:VEVENT
SUMMARY:St Peters Pantry
DTSTART:20260121T123000Z
DTEND:20260121T143000Z
DTSTAMP:20260425T124748Z
UID:12794992026-01-21 12:30:00+00:00achurchnearyou
CATEGORIES:
DESCRIPTION:Lunch Club\nCome and join us for nourishing food and good comp
 any
GEO:-1.90565;52.29702
LOCATION:St Peter's\, Ipsley
URL:https://www.achurchnearyou.com/church/18712/service-and-events/events/
 1279499/
END:VEVENT
END:VCALENDAR
