BEGIN:VCALENDAR
VERSION:2.0
PRODID:-//achurchnearyou.com//eventfeed//EN
CALSCALE:GREGORIAN
METHOD:PUBLISH
X-WR-TIMEZONE:UTC
BEGIN:VEVENT
SUMMARY:Holy Communion with Sunday Club followed by refreshments
DTSTART;TZID=Europe/London:20260517T093000
DTEND;TZID=Europe/London:20260517T104500
DTSTAMP:20260420T022025Z
UID:10306392026-05-17 09:30:00+01:00achurchnearyou
CATEGORIES:
DESCRIPTION:Holy Communion with robed servers\, crucifer and hymns and usi
 ng the high altar. We have a Sunday Club for primary aged children who hav
 e activities and stories before joining with the congregation at the offer
 tory.\n\nPlease see 'current homily/sermons' tab on home page for a text o
 f the Homily or sermon.
GEO:-2.086517;52.464014
LOCATION:St Peter's\, Cradley
URL:https://www.achurchnearyou.com/church/18744/service-and-events/events/
 1030639/
END:VEVENT
BEGIN:VEVENT
SUMMARY:Holy Communion with Sunday Club followed by refreshments
DTSTART;TZID=Europe/London:20260621T093000
DTEND;TZID=Europe/London:20260621T104500
DTSTAMP:20260420T022025Z
UID:10306392026-06-21 09:30:00+01:00achurchnearyou
CATEGORIES:
DESCRIPTION:Holy Communion with robed servers\, crucifer and hymns and usi
 ng the high altar. We have a Sunday Club for primary aged children who hav
 e activities and stories before joining with the congregation at the offer
 tory.\n\nPlease see 'current homily/sermons' tab on home page for a text o
 f the Homily or sermon.
GEO:-2.086517;52.464014
LOCATION:St Peter's\, Cradley
URL:https://www.achurchnearyou.com/church/18744/service-and-events/events/
 1030639/
END:VEVENT
BEGIN:VEVENT
SUMMARY:Holy Communion with Sunday Club followed by refreshments
DTSTART;TZID=Europe/London:20260719T093000
DTEND;TZID=Europe/London:20260719T104500
DTSTAMP:20260420T022025Z
UID:10306392026-07-19 09:30:00+01:00achurchnearyou
CATEGORIES:
DESCRIPTION:Holy Communion with robed servers\, crucifer and hymns and usi
 ng the high altar. We have a Sunday Club for primary aged children who hav
 e activities and stories before joining with the congregation at the offer
 tory.\n\nPlease see 'current homily/sermons' tab on home page for a text o
 f the Homily or sermon.
GEO:-2.086517;52.464014
LOCATION:St Peter's\, Cradley
URL:https://www.achurchnearyou.com/church/18744/service-and-events/events/
 1030639/
END:VEVENT
BEGIN:VEVENT
SUMMARY:Holy Communion with Sunday Club followed by refreshments
DTSTART;TZID=Europe/London:20260816T093000
DTEND;TZID=Europe/London:20260816T104500
DTSTAMP:20260420T022025Z
UID:10306392026-08-16 09:30:00+01:00achurchnearyou
CATEGORIES:
DESCRIPTION:Holy Communion with robed servers\, crucifer and hymns and usi
 ng the high altar. We have a Sunday Club for primary aged children who hav
 e activities and stories before joining with the congregation at the offer
 tory.\n\nPlease see 'current homily/sermons' tab on home page for a text o
 f the Homily or sermon.
GEO:-2.086517;52.464014
LOCATION:St Peter's\, Cradley
URL:https://www.achurchnearyou.com/church/18744/service-and-events/events/
 1030639/
END:VEVENT
BEGIN:VEVENT
SUMMARY:Holy Communion with Sunday Club followed by refreshments
DTSTART;TZID=Europe/London:20260920T093000
DTEND;TZID=Europe/London:20260920T104500
DTSTAMP:20260420T022025Z
UID:10306392026-09-20 09:30:00+01:00achurchnearyou
CATEGORIES:
DESCRIPTION:Holy Communion with robed servers\, crucifer and hymns and usi
 ng the high altar. We have a Sunday Club for primary aged children who hav
 e activities and stories before joining with the congregation at the offer
 tory.\n\nPlease see 'current homily/sermons' tab on home page for a text o
 f the Homily or sermon.
GEO:-2.086517;52.464014
LOCATION:St Peter's\, Cradley
URL:https://www.achurchnearyou.com/church/18744/service-and-events/events/
 1030639/
END:VEVENT
BEGIN:VEVENT
SUMMARY:Holy Communion with Sunday Club followed by refreshments
DTSTART;TZID=Europe/London:20261018T093000
DTEND;TZID=Europe/London:20261018T104500
DTSTAMP:20260420T022025Z
UID:10306392026-10-18 09:30:00+01:00achurchnearyou
CATEGORIES:
DESCRIPTION:Holy Communion with robed servers\, crucifer and hymns and usi
 ng the high altar. We have a Sunday Club for primary aged children who hav
 e activities and stories before joining with the congregation at the offer
 tory.\n\nPlease see 'current homily/sermons' tab on home page for a text o
 f the Homily or sermon.
GEO:-2.086517;52.464014
LOCATION:St Peter's\, Cradley
URL:https://www.achurchnearyou.com/church/18744/service-and-events/events/
 1030639/
END:VEVENT
BEGIN:VEVENT
SUMMARY:Holy Communion with Sunday Club followed by refreshments
DTSTART;TZID=Europe/London:20261115T093000
DTEND;TZID=Europe/London:20261115T104500
DTSTAMP:20260420T022025Z
UID:10306392026-11-15 09:30:00+00:00achurchnearyou
CATEGORIES:
DESCRIPTION:Holy Communion with robed servers\, crucifer and hymns and usi
 ng the high altar. We have a Sunday Club for primary aged children who hav
 e activities and stories before joining with the congregation at the offer
 tory.\n\nPlease see 'current homily/sermons' tab on home page for a text o
 f the Homily or sermon.
GEO:-2.086517;52.464014
LOCATION:St Peter's\, Cradley
URL:https://www.achurchnearyou.com/church/18744/service-and-events/events/
 1030639/
END:VEVENT
BEGIN:VEVENT
SUMMARY:Holy Communion with Sunday Club followed by refreshments
DTSTART;TZID=Europe/London:20261220T093000
DTEND;TZID=Europe/London:20261220T104500
DTSTAMP:20260420T022025Z
UID:10306392026-12-20 09:30:00+00:00achurchnearyou
CATEGORIES:
DESCRIPTION:Holy Communion with robed servers\, crucifer and hymns and usi
 ng the high altar. We have a Sunday Club for primary aged children who hav
 e activities and stories before joining with the congregation at the offer
 tory.\n\nPlease see 'current homily/sermons' tab on home page for a text o
 f the Homily or sermon.
GEO:-2.086517;52.464014
LOCATION:St Peter's\, Cradley
URL:https://www.achurchnearyou.com/church/18744/service-and-events/events/
 1030639/
END:VEVENT
BEGIN:VEVENT
SUMMARY:Holy Communion with Sunday Club followed by refreshments
DTSTART;TZID=Europe/London:20270117T093000
DTEND;TZID=Europe/London:20270117T104500
DTSTAMP:20260420T022025Z
UID:10306392027-01-17 09:30:00+00:00achurchnearyou
CATEGORIES:
DESCRIPTION:Holy Communion with robed servers\, crucifer and hymns and usi
 ng the high altar. We have a Sunday Club for primary aged children who hav
 e activities and stories before joining with the congregation at the offer
 tory.\n\nPlease see 'current homily/sermons' tab on home page for a text o
 f the Homily or sermon.
GEO:-2.086517;52.464014
LOCATION:St Peter's\, Cradley
URL:https://www.achurchnearyou.com/church/18744/service-and-events/events/
 1030639/
END:VEVENT
BEGIN:VEVENT
SUMMARY:Holy Communion with Sunday Club followed by refreshments
DTSTART;TZID=Europe/London:20270221T093000
DTEND;TZID=Europe/London:20270221T104500
DTSTAMP:20260420T022025Z
UID:10306392027-02-21 09:30:00+00:00achurchnearyou
CATEGORIES:
DESCRIPTION:Holy Communion with robed servers\, crucifer and hymns and usi
 ng the high altar. We have a Sunday Club for primary aged children who hav
 e activities and stories before joining with the congregation at the offer
 tory.\n\nPlease see 'current homily/sermons' tab on home page for a text o
 f the Homily or sermon.
GEO:-2.086517;52.464014
LOCATION:St Peter's\, Cradley
URL:https://www.achurchnearyou.com/church/18744/service-and-events/events/
 1030639/
END:VEVENT
BEGIN:VEVENT
SUMMARY:Holy Communion with Sunday Club followed by refreshments
DTSTART;TZID=Europe/London:20270321T093000
DTEND;TZID=Europe/London:20270321T104500
DTSTAMP:20260420T022025Z
UID:10306392027-03-21 09:30:00+00:00achurchnearyou
CATEGORIES:
DESCRIPTION:Holy Communion with robed servers\, crucifer and hymns and usi
 ng the high altar. We have a Sunday Club for primary aged children who hav
 e activities and stories before joining with the congregation at the offer
 tory.\n\nPlease see 'current homily/sermons' tab on home page for a text o
 f the Homily or sermon.
GEO:-2.086517;52.464014
LOCATION:St Peter's\, Cradley
URL:https://www.achurchnearyou.com/church/18744/service-and-events/events/
 1030639/
END:VEVENT
BEGIN:VEVENT
SUMMARY:Holy Communion with Sunday Club followed by refreshments
DTSTART;TZID=Europe/London:20270418T093000
DTEND;TZID=Europe/London:20270418T104500
DTSTAMP:20260420T022025Z
UID:10306392027-04-18 09:30:00+01:00achurchnearyou
CATEGORIES:
DESCRIPTION:Holy Communion with robed servers\, crucifer and hymns and usi
 ng the high altar. We have a Sunday Club for primary aged children who hav
 e activities and stories before joining with the congregation at the offer
 tory.\n\nPlease see 'current homily/sermons' tab on home page for a text o
 f the Homily or sermon.
GEO:-2.086517;52.464014
LOCATION:St Peter's\, Cradley
URL:https://www.achurchnearyou.com/church/18744/service-and-events/events/
 1030639/
END:VEVENT
END:VCALENDAR
