BEGIN:VCALENDAR
VERSION:2.0
PRODID:-//achurchnearyou.com//eventfeed//EN
CALSCALE:GREGORIAN
METHOD:PUBLISH
X-WR-TIMEZONE:UTC
BEGIN:VEVENT
SUMMARY:United Deanery Service
DTSTART:20230730T090000Z
DTEND:20230730T103000Z
DTSTAMP:20260419T131900Z
UID:9575302023-07-30 09:00:00+00:00achurchnearyou
CATEGORIES:
DESCRIPTION:There will be no services in the Kidderminster Ismere Team on 
 Sunday 30th July 2023.  All are warmly invited to attend "A Celebration of
  The Holy Eucharist for the whole Deanery"  in The Tea Room Gardens\, St M
 ichael & All Angel's Church\, Great Witley at 10:00 am.  Please bring a ch
 air with you.
LOCATION:Tea Room Gardens
URL:https://www.achurchnearyou.com/church/18767/service-and-events/events/
 957530/
END:VEVENT
END:VCALENDAR
