BEGIN:VCALENDAR
VERSION:2.0
PRODID:-//achurchnearyou.com//eventfeed//EN
CALSCALE:GREGORIAN
METHOD:PUBLISH
X-WR-TIMEZONE:UTC
BEGIN:VEVENT
SUMMARY:Holy Week Reflections
DTSTART;TZID=Europe/London:20260401T090000
DTEND;TZID=Europe/London:20260401T092000
DTSTAMP:20260420T035333Z
UID:11874591775030400.0achurchnearyou
CATEGORIES:
DESCRIPTION:A 20 minute reflection for Holy Week on Zoom. All are welcome\
 , please contact Sallie for details.
LOCATION:Via Zoom - Plese contact Sallie for the link
URL:https://www.achurchnearyou.com/church/18785/service-and-events/events/
 1187459/
END:VEVENT
BEGIN:VEVENT
SUMMARY:Stations of the Cross service
DTSTART;TZID=Europe/London:20260401T190000
DTEND;TZID=Europe/London:20260401T200000
DTSTAMP:20260420T035333Z
UID:13174811775066400.0achurchnearyou
CATEGORIES:
DESCRIPTION:A reflective service for Holy Week focussing on Jesus' journey
  to the cross
LOCATION:St Peter & St Paul
URL:https://www.achurchnearyou.com/church/18785/service-and-events/events/
 1317481/
END:VEVENT
BEGIN:VEVENT
SUMMARY:Holy Week Reflections
DTSTART;TZID=Europe/London:20260402T090000
DTEND;TZID=Europe/London:20260402T092000
DTSTAMP:20260420T035333Z
UID:11874591775116800.0achurchnearyou
CATEGORIES:
DESCRIPTION:A 20 minute reflection for Holy Week on Zoom. All are welcome\
 , please contact Sallie for details.
LOCATION:Via Zoom - Plese contact Sallie for the link
URL:https://www.achurchnearyou.com/church/18785/service-and-events/events/
 1187459/
END:VEVENT
BEGIN:VEVENT
SUMMARY:Maundy Thursday Communion
DTSTART;TZID=Europe/London:20260402T100000
DTEND;TZID=Europe/London:20260402T110000
DTSTAMP:20260420T035333Z
UID:11834331775120400.0achurchnearyou
CATEGORIES:
DESCRIPTION:A modern language communion service for Maundy Thursday. All a
 re welcome\, and any who normally take communion are welcome to do so. Glu
 ten free wafers are available\, just let us know before the service.
LOCATION:Holy Trinity
URL:https://www.achurchnearyou.com/church/18785/service-and-events/events/
 1183433/
END:VEVENT
BEGIN:VEVENT
SUMMARY:Holy Week Reflections
DTSTART;TZID=Europe/London:20260403T090000
DTEND;TZID=Europe/London:20260403T092000
DTSTAMP:20260420T035333Z
UID:11874591775203200.0achurchnearyou
CATEGORIES:
DESCRIPTION:A 20 minute reflection for Holy Week on Zoom. All are welcome\
 , please contact Sallie for details.
LOCATION:Via Zoom - Plese contact Sallie for the link
URL:https://www.achurchnearyou.com/church/18785/service-and-events/events/
 1187459/
END:VEVENT
BEGIN:VEVENT
SUMMARY:Good Friday Worship in the churchyard
DTSTART;TZID=Europe/London:20260403T150000
DTEND;TZID=Europe/London:20260403T160000
DTSTAMP:20260420T035333Z
UID:11874701775224800.0achurchnearyou
CATEGORIES:
DESCRIPTION:An outdoor reflective service of readings\, hymns and music fo
 r Good Friday (this will be held in church if necessary).
LOCATION:St Bartholomew
URL:https://www.achurchnearyou.com/church/18785/service-and-events/events/
 1187470/
END:VEVENT
BEGIN:VEVENT
SUMMARY:Holy Week Reflections
DTSTART;TZID=Europe/London:20260404T090000
DTEND;TZID=Europe/London:20260404T092000
DTSTAMP:20260420T035333Z
UID:11874591775289600.0achurchnearyou
CATEGORIES:
DESCRIPTION:A 20 minute reflection for Holy Week on Zoom. All are welcome\
 , please contact Sallie for details.
LOCATION:Via Zoom - Plese contact Sallie for the link
URL:https://www.achurchnearyou.com/church/18785/service-and-events/events/
 1187459/
END:VEVENT
BEGIN:VEVENT
SUMMARY:Easter Sunday Family Communion Service
DTSTART;TZID=Europe/London:20260405T100000
DTEND;TZID=Europe/London:20260405T110000
DTSTAMP:20260420T035333Z
UID:11874991775379600.0achurchnearyou
CATEGORIES:
DESCRIPTION:Come and celebrate Easter with us at our family friendly Commu
 nion service. All are welcome.  Gluten free communion wafers are available
 \, please let the clergy know before the service.
GEO:-2.458522;52.341645
LOCATION:St John the Baptist
URL:https://www.achurchnearyou.com/church/18785/service-and-events/events/
 1187499/
END:VEVENT
BEGIN:VEVENT
SUMMARY:Family Service
DTSTART;TZID=Europe/London:20260419T110000
DTEND;TZID=Europe/London:20260419T120000
DTSTAMP:20260420T035333Z
UID:9957861776592800.0achurchnearyou
CATEGORIES:
DESCRIPTION:Monthly service in the church with a child friendly bible stor
 y and an activity to create something for the children (and adults!) to ta
 ke away with you.\nFollowed by socialising over coffee and biscuits.
GEO:-2.458522;52.341645
LOCATION:St John the Baptist
URL:https://www.achurchnearyou.com/church/18785/service-and-events/events/
 995786/
END:VEVENT
BEGIN:VEVENT
SUMMARY:Holy Communion
DTSTART;TZID=Europe/London:20260426T093000
DTEND;TZID=Europe/London:20260426T103000
DTSTAMP:20260420T035333Z
UID:11610591777192200.0achurchnearyou
CATEGORIES:
DESCRIPTION:Come and join us for our service of Holy Communion. All are we
 lcome\, gluten free wafers available - please ask before the service.
LOCATION:St Peter & St Paul
URL:https://www.achurchnearyou.com/church/18785/service-and-events/events/
 1161059/
END:VEVENT
BEGIN:VEVENT
SUMMARY:Holy Communion Service
DTSTART;TZID=Europe/London:20260503T093000
DTEND;TZID=Europe/London:20260503T103000
DTSTAMP:20260420T035333Z
UID:9991801777797000.0achurchnearyou
CATEGORIES:
DESCRIPTION:Come and join us for our Holy communion service - all are welc
 ome and gluten free wafers are available\; please ask before the service b
 egins.
GEO:-2.458522;52.341645
LOCATION:St John the Baptist
URL:https://www.achurchnearyou.com/church/18785/service-and-events/events/
 999180/
END:VEVENT
BEGIN:VEVENT
SUMMARY:Family Service
DTSTART;TZID=Europe/London:20260517T110000
DTEND;TZID=Europe/London:20260517T120000
DTSTAMP:20260420T035333Z
UID:9957861779012000.0achurchnearyou
CATEGORIES:
DESCRIPTION:Monthly service in the church with a child friendly bible stor
 y and an activity to create something for the children (and adults!) to ta
 ke away with you.\nFollowed by socialising over coffee and biscuits.
GEO:-2.458522;52.341645
LOCATION:St John the Baptist
URL:https://www.achurchnearyou.com/church/18785/service-and-events/events/
 995786/
END:VEVENT
BEGIN:VEVENT
SUMMARY:Holy Communion
DTSTART;TZID=Europe/London:20260524T093000
DTEND;TZID=Europe/London:20260524T103000
DTSTAMP:20260420T035333Z
UID:11610591779611400.0achurchnearyou
CATEGORIES:
DESCRIPTION:Come and join us for our service of Holy Communion. All are we
 lcome\, gluten free wafers available - please ask before the service.
LOCATION:St Peter & St Paul
URL:https://www.achurchnearyou.com/church/18785/service-and-events/events/
 1161059/
END:VEVENT
BEGIN:VEVENT
SUMMARY:Palm Sunday All Together Holy Communion
DTSTART;TZID=Europe/London:20260531T100000
DTEND;TZID=Europe/London:20260531T110000
DTSTAMP:20260420T035333Z
UID:10135561780218000.0achurchnearyou
CATEGORIES:
DESCRIPTION:Come and celebrate Palm Sunday at our family friendly communio
 n service - all are welcome and gluten free wafers are available\; please 
 ask before the service begins.
LOCATION:Holy Trinity
URL:https://www.achurchnearyou.com/church/18785/service-and-events/events/
 1013556/
END:VEVENT
BEGIN:VEVENT
SUMMARY:Holy Communion Service
DTSTART;TZID=Europe/London:20260607T093000
DTEND;TZID=Europe/London:20260607T103000
DTSTAMP:20260420T035333Z
UID:9991801780821000.0achurchnearyou
CATEGORIES:
DESCRIPTION:Come and join us for our Holy communion service - all are welc
 ome and gluten free wafers are available\; please ask before the service b
 egins.
GEO:-2.458522;52.341645
LOCATION:St John the Baptist
URL:https://www.achurchnearyou.com/church/18785/service-and-events/events/
 999180/
END:VEVENT
BEGIN:VEVENT
SUMMARY:Family Service
DTSTART;TZID=Europe/London:20260621T110000
DTEND;TZID=Europe/London:20260621T120000
DTSTAMP:20260420T035333Z
UID:9957861782036000.0achurchnearyou
CATEGORIES:
DESCRIPTION:Monthly service in the church with a child friendly bible stor
 y and an activity to create something for the children (and adults!) to ta
 ke away with you.\nFollowed by socialising over coffee and biscuits.
GEO:-2.458522;52.341645
LOCATION:St John the Baptist
URL:https://www.achurchnearyou.com/church/18785/service-and-events/events/
 995786/
END:VEVENT
BEGIN:VEVENT
SUMMARY:Holy Communion
DTSTART;TZID=Europe/London:20260628T093000
DTEND;TZID=Europe/London:20260628T103000
DTSTAMP:20260420T035333Z
UID:11610591782635400.0achurchnearyou
CATEGORIES:
DESCRIPTION:Come and join us for our service of Holy Communion. All are we
 lcome\, gluten free wafers available - please ask before the service.
LOCATION:St Peter & St Paul
URL:https://www.achurchnearyou.com/church/18785/service-and-events/events/
 1161059/
END:VEVENT
BEGIN:VEVENT
SUMMARY:Holy Communion Service
DTSTART;TZID=Europe/London:20260705T093000
DTEND;TZID=Europe/London:20260705T103000
DTSTAMP:20260420T035333Z
UID:9991801783240200.0achurchnearyou
CATEGORIES:
DESCRIPTION:Come and join us for our Holy communion service - all are welc
 ome and gluten free wafers are available\; please ask before the service b
 egins.
GEO:-2.458522;52.341645
LOCATION:St John the Baptist
URL:https://www.achurchnearyou.com/church/18785/service-and-events/events/
 999180/
END:VEVENT
BEGIN:VEVENT
SUMMARY:Family Service
DTSTART;TZID=Europe/London:20260719T110000
DTEND;TZID=Europe/London:20260719T120000
DTSTAMP:20260420T035333Z
UID:9957861784455200.0achurchnearyou
CATEGORIES:
DESCRIPTION:Monthly service in the church with a child friendly bible stor
 y and an activity to create something for the children (and adults!) to ta
 ke away with you.\nFollowed by socialising over coffee and biscuits.
GEO:-2.458522;52.341645
LOCATION:St John the Baptist
URL:https://www.achurchnearyou.com/church/18785/service-and-events/events/
 995786/
END:VEVENT
BEGIN:VEVENT
SUMMARY:Holy Communion
DTSTART;TZID=Europe/London:20260726T093000
DTEND;TZID=Europe/London:20260726T103000
DTSTAMP:20260420T035333Z
UID:11610591785054600.0achurchnearyou
CATEGORIES:
DESCRIPTION:Come and join us for our service of Holy Communion. All are we
 lcome\, gluten free wafers available - please ask before the service.
LOCATION:St Peter & St Paul
URL:https://www.achurchnearyou.com/church/18785/service-and-events/events/
 1161059/
END:VEVENT
BEGIN:VEVENT
SUMMARY:Holy Communion Service
DTSTART;TZID=Europe/London:20260802T093000
DTEND;TZID=Europe/London:20260802T103000
DTSTAMP:20260420T035333Z
UID:9991801785659400.0achurchnearyou
CATEGORIES:
DESCRIPTION:Come and join us for our Holy communion service - all are welc
 ome and gluten free wafers are available\; please ask before the service b
 egins.
GEO:-2.458522;52.341645
LOCATION:St John the Baptist
URL:https://www.achurchnearyou.com/church/18785/service-and-events/events/
 999180/
END:VEVENT
BEGIN:VEVENT
SUMMARY:Family Service
DTSTART;TZID=Europe/London:20260816T110000
DTEND;TZID=Europe/London:20260816T120000
DTSTAMP:20260420T035333Z
UID:9957861786874400.0achurchnearyou
CATEGORIES:
DESCRIPTION:Monthly service in the church with a child friendly bible stor
 y and an activity to create something for the children (and adults!) to ta
 ke away with you.\nFollowed by socialising over coffee and biscuits.
GEO:-2.458522;52.341645
LOCATION:St John the Baptist
URL:https://www.achurchnearyou.com/church/18785/service-and-events/events/
 995786/
END:VEVENT
BEGIN:VEVENT
SUMMARY:Holy Communion
DTSTART;TZID=Europe/London:20260823T093000
DTEND;TZID=Europe/London:20260823T103000
DTSTAMP:20260420T035333Z
UID:11610591787473800.0achurchnearyou
CATEGORIES:
DESCRIPTION:Come and join us for our service of Holy Communion. All are we
 lcome\, gluten free wafers available - please ask before the service.
LOCATION:St Peter & St Paul
URL:https://www.achurchnearyou.com/church/18785/service-and-events/events/
 1161059/
END:VEVENT
BEGIN:VEVENT
SUMMARY:Palm Sunday All Together Holy Communion
DTSTART;TZID=Europe/London:20260830T100000
DTEND;TZID=Europe/London:20260830T110000
DTSTAMP:20260420T035333Z
UID:10135561788080400.0achurchnearyou
CATEGORIES:
DESCRIPTION:Come and celebrate Palm Sunday at our family friendly communio
 n service - all are welcome and gluten free wafers are available\; please 
 ask before the service begins.
LOCATION:Holy Trinity
URL:https://www.achurchnearyou.com/church/18785/service-and-events/events/
 1013556/
END:VEVENT
BEGIN:VEVENT
SUMMARY:Holy Communion Service
DTSTART;TZID=Europe/London:20260906T093000
DTEND;TZID=Europe/London:20260906T103000
DTSTAMP:20260420T035333Z
UID:9991801788683400.0achurchnearyou
CATEGORIES:
DESCRIPTION:Come and join us for our Holy communion service - all are welc
 ome and gluten free wafers are available\; please ask before the service b
 egins.
GEO:-2.458522;52.341645
LOCATION:St John the Baptist
URL:https://www.achurchnearyou.com/church/18785/service-and-events/events/
 999180/
END:VEVENT
BEGIN:VEVENT
SUMMARY:Family Service
DTSTART;TZID=Europe/London:20260920T110000
DTEND;TZID=Europe/London:20260920T120000
DTSTAMP:20260420T035333Z
UID:9957861789898400.0achurchnearyou
CATEGORIES:
DESCRIPTION:Monthly service in the church with a child friendly bible stor
 y and an activity to create something for the children (and adults!) to ta
 ke away with you.\nFollowed by socialising over coffee and biscuits.
GEO:-2.458522;52.341645
LOCATION:St John the Baptist
URL:https://www.achurchnearyou.com/church/18785/service-and-events/events/
 995786/
END:VEVENT
BEGIN:VEVENT
SUMMARY:Holy Communion
DTSTART;TZID=Europe/London:20260927T093000
DTEND;TZID=Europe/London:20260927T103000
DTSTAMP:20260420T035333Z
UID:11610591790497800.0achurchnearyou
CATEGORIES:
DESCRIPTION:Come and join us for our service of Holy Communion. All are we
 lcome\, gluten free wafers available - please ask before the service.
LOCATION:St Peter & St Paul
URL:https://www.achurchnearyou.com/church/18785/service-and-events/events/
 1161059/
END:VEVENT
END:VCALENDAR
