BEGIN:VCALENDAR
VERSION:2.0
PRODID:-//achurchnearyou.com//eventfeed//EN
CALSCALE:GREGORIAN
METHOD:PUBLISH
X-WR-TIMEZONE:UTC
BEGIN:VEVENT
SUMMARY:Lunch Club
DTSTART;TZID=Europe/London:20260424T123000
DTEND;TZID=Europe/London:20260424T133000
DTSTAMP:20260421T014449Z
UID:8709782026-04-24 12:30:00+01:00achurchnearyou
CATEGORIES:
DESCRIPTION:Our all age lunch club is a new regular event that started in 
 2022. This is open to local people and takes place on the the last Friday 
 of each month from 12:30. The food is home made by Jackie (a qualified and
  experienced caterer) and her team. The venue is the church hall in Elsfie
 ld Road. The meal is a two-course meal\, including a vegetarian option and
  jacket potatoes.  Come with ideas for a name\, games\, music and to make
  new friends. The cost is a £4.00 donation. To make a booking please cont
 act our administrator (01865-580354\, administrator@stnicholasmarston.org.
 uk) by the Monday of the same week at the latest\, passing on any dietary 
 requirements. We look forward to seeing you.
LOCATION:Church Hall
URL:https://stnicholasmarston.org.uk/lunch-club/
END:VEVENT
BEGIN:VEVENT
SUMMARY:Lunch Club
DTSTART;TZID=Europe/London:20260529T123000
DTEND;TZID=Europe/London:20260529T133000
DTSTAMP:20260421T014449Z
UID:8709782026-05-29 12:30:00+01:00achurchnearyou
CATEGORIES:
DESCRIPTION:Our all age lunch club is a new regular event that started in 
 2022. This is open to local people and takes place on the the last Friday 
 of each month from 12:30. The food is home made by Jackie (a qualified and
  experienced caterer) and her team. The venue is the church hall in Elsfie
 ld Road. The meal is a two-course meal\, including a vegetarian option and
  jacket potatoes.  Come with ideas for a name\, games\, music and to make
  new friends. The cost is a £4.00 donation. To make a booking please cont
 act our administrator (01865-580354\, administrator@stnicholasmarston.org.
 uk) by the Monday of the same week at the latest\, passing on any dietary 
 requirements. We look forward to seeing you.
LOCATION:Church Hall
URL:https://stnicholasmarston.org.uk/lunch-club/
END:VEVENT
BEGIN:VEVENT
SUMMARY:Lunch Club
DTSTART;TZID=Europe/London:20260626T123000
DTEND;TZID=Europe/London:20260626T133000
DTSTAMP:20260421T014449Z
UID:8709782026-06-26 12:30:00+01:00achurchnearyou
CATEGORIES:
DESCRIPTION:Our all age lunch club is a new regular event that started in 
 2022. This is open to local people and takes place on the the last Friday 
 of each month from 12:30. The food is home made by Jackie (a qualified and
  experienced caterer) and her team. The venue is the church hall in Elsfie
 ld Road. The meal is a two-course meal\, including a vegetarian option and
  jacket potatoes.  Come with ideas for a name\, games\, music and to make
  new friends. The cost is a £4.00 donation. To make a booking please cont
 act our administrator (01865-580354\, administrator@stnicholasmarston.org.
 uk) by the Monday of the same week at the latest\, passing on any dietary 
 requirements. We look forward to seeing you.
LOCATION:Church Hall
URL:https://stnicholasmarston.org.uk/lunch-club/
END:VEVENT
BEGIN:VEVENT
SUMMARY:Lunch Club
DTSTART;TZID=Europe/London:20260731T123000
DTEND;TZID=Europe/London:20260731T133000
DTSTAMP:20260421T014449Z
UID:8709782026-07-31 12:30:00+01:00achurchnearyou
CATEGORIES:
DESCRIPTION:Our all age lunch club is a new regular event that started in 
 2022. This is open to local people and takes place on the the last Friday 
 of each month from 12:30. The food is home made by Jackie (a qualified and
  experienced caterer) and her team. The venue is the church hall in Elsfie
 ld Road. The meal is a two-course meal\, including a vegetarian option and
  jacket potatoes.  Come with ideas for a name\, games\, music and to make
  new friends. The cost is a £4.00 donation. To make a booking please cont
 act our administrator (01865-580354\, administrator@stnicholasmarston.org.
 uk) by the Monday of the same week at the latest\, passing on any dietary 
 requirements. We look forward to seeing you.
LOCATION:Church Hall
URL:https://stnicholasmarston.org.uk/lunch-club/
END:VEVENT
BEGIN:VEVENT
SUMMARY:Lunch Club
DTSTART;TZID=Europe/London:20260828T123000
DTEND;TZID=Europe/London:20260828T133000
DTSTAMP:20260421T014449Z
UID:8709782026-08-28 12:30:00+01:00achurchnearyou
CATEGORIES:
DESCRIPTION:Our all age lunch club is a new regular event that started in 
 2022. This is open to local people and takes place on the the last Friday 
 of each month from 12:30. The food is home made by Jackie (a qualified and
  experienced caterer) and her team. The venue is the church hall in Elsfie
 ld Road. The meal is a two-course meal\, including a vegetarian option and
  jacket potatoes.  Come with ideas for a name\, games\, music and to make
  new friends. The cost is a £4.00 donation. To make a booking please cont
 act our administrator (01865-580354\, administrator@stnicholasmarston.org.
 uk) by the Monday of the same week at the latest\, passing on any dietary 
 requirements. We look forward to seeing you.
LOCATION:Church Hall
URL:https://stnicholasmarston.org.uk/lunch-club/
END:VEVENT
BEGIN:VEVENT
SUMMARY:Lunch Club
DTSTART;TZID=Europe/London:20260925T123000
DTEND;TZID=Europe/London:20260925T133000
DTSTAMP:20260421T014449Z
UID:8709782026-09-25 12:30:00+01:00achurchnearyou
CATEGORIES:
DESCRIPTION:Our all age lunch club is a new regular event that started in 
 2022. This is open to local people and takes place on the the last Friday 
 of each month from 12:30. The food is home made by Jackie (a qualified and
  experienced caterer) and her team. The venue is the church hall in Elsfie
 ld Road. The meal is a two-course meal\, including a vegetarian option and
  jacket potatoes.  Come with ideas for a name\, games\, music and to make
  new friends. The cost is a £4.00 donation. To make a booking please cont
 act our administrator (01865-580354\, administrator@stnicholasmarston.org.
 uk) by the Monday of the same week at the latest\, passing on any dietary 
 requirements. We look forward to seeing you.
LOCATION:Church Hall
URL:https://stnicholasmarston.org.uk/lunch-club/
END:VEVENT
BEGIN:VEVENT
SUMMARY:Lunch Club
DTSTART;TZID=Europe/London:20261030T123000
DTEND;TZID=Europe/London:20261030T133000
DTSTAMP:20260421T014449Z
UID:8709782026-10-30 12:30:00+00:00achurchnearyou
CATEGORIES:
DESCRIPTION:Our all age lunch club is a new regular event that started in 
 2022. This is open to local people and takes place on the the last Friday 
 of each month from 12:30. The food is home made by Jackie (a qualified and
  experienced caterer) and her team. The venue is the church hall in Elsfie
 ld Road. The meal is a two-course meal\, including a vegetarian option and
  jacket potatoes.  Come with ideas for a name\, games\, music and to make
  new friends. The cost is a £4.00 donation. To make a booking please cont
 act our administrator (01865-580354\, administrator@stnicholasmarston.org.
 uk) by the Monday of the same week at the latest\, passing on any dietary 
 requirements. We look forward to seeing you.
LOCATION:Church Hall
URL:https://stnicholasmarston.org.uk/lunch-club/
END:VEVENT
BEGIN:VEVENT
SUMMARY:Lunch Club
DTSTART;TZID=Europe/London:20261127T123000
DTEND;TZID=Europe/London:20261127T133000
DTSTAMP:20260421T014449Z
UID:8709782026-11-27 12:30:00+00:00achurchnearyou
CATEGORIES:
DESCRIPTION:Our all age lunch club is a new regular event that started in 
 2022. This is open to local people and takes place on the the last Friday 
 of each month from 12:30. The food is home made by Jackie (a qualified and
  experienced caterer) and her team. The venue is the church hall in Elsfie
 ld Road. The meal is a two-course meal\, including a vegetarian option and
  jacket potatoes.  Come with ideas for a name\, games\, music and to make
  new friends. The cost is a £4.00 donation. To make a booking please cont
 act our administrator (01865-580354\, administrator@stnicholasmarston.org.
 uk) by the Monday of the same week at the latest\, passing on any dietary 
 requirements. We look forward to seeing you.
LOCATION:Church Hall
URL:https://stnicholasmarston.org.uk/lunch-club/
END:VEVENT
BEGIN:VEVENT
SUMMARY:Lunch Club
DTSTART;TZID=Europe/London:20261225T123000
DTEND;TZID=Europe/London:20261225T133000
DTSTAMP:20260421T014449Z
UID:8709782026-12-25 12:30:00+00:00achurchnearyou
CATEGORIES:
DESCRIPTION:Our all age lunch club is a new regular event that started in 
 2022. This is open to local people and takes place on the the last Friday 
 of each month from 12:30. The food is home made by Jackie (a qualified and
  experienced caterer) and her team. The venue is the church hall in Elsfie
 ld Road. The meal is a two-course meal\, including a vegetarian option and
  jacket potatoes.  Come with ideas for a name\, games\, music and to make
  new friends. The cost is a £4.00 donation. To make a booking please cont
 act our administrator (01865-580354\, administrator@stnicholasmarston.org.
 uk) by the Monday of the same week at the latest\, passing on any dietary 
 requirements. We look forward to seeing you.
LOCATION:Church Hall
URL:https://stnicholasmarston.org.uk/lunch-club/
END:VEVENT
BEGIN:VEVENT
SUMMARY:Lunch Club
DTSTART;TZID=Europe/London:20270129T123000
DTEND;TZID=Europe/London:20270129T133000
DTSTAMP:20260421T014449Z
UID:8709782027-01-29 12:30:00+00:00achurchnearyou
CATEGORIES:
DESCRIPTION:Our all age lunch club is a new regular event that started in 
 2022. This is open to local people and takes place on the the last Friday 
 of each month from 12:30. The food is home made by Jackie (a qualified and
  experienced caterer) and her team. The venue is the church hall in Elsfie
 ld Road. The meal is a two-course meal\, including a vegetarian option and
  jacket potatoes.  Come with ideas for a name\, games\, music and to make
  new friends. The cost is a £4.00 donation. To make a booking please cont
 act our administrator (01865-580354\, administrator@stnicholasmarston.org.
 uk) by the Monday of the same week at the latest\, passing on any dietary 
 requirements. We look forward to seeing you.
LOCATION:Church Hall
URL:https://stnicholasmarston.org.uk/lunch-club/
END:VEVENT
BEGIN:VEVENT
SUMMARY:Lunch Club
DTSTART;TZID=Europe/London:20270226T123000
DTEND;TZID=Europe/London:20270226T133000
DTSTAMP:20260421T014449Z
UID:8709782027-02-26 12:30:00+00:00achurchnearyou
CATEGORIES:
DESCRIPTION:Our all age lunch club is a new regular event that started in 
 2022. This is open to local people and takes place on the the last Friday 
 of each month from 12:30. The food is home made by Jackie (a qualified and
  experienced caterer) and her team. The venue is the church hall in Elsfie
 ld Road. The meal is a two-course meal\, including a vegetarian option and
  jacket potatoes.  Come with ideas for a name\, games\, music and to make
  new friends. The cost is a £4.00 donation. To make a booking please cont
 act our administrator (01865-580354\, administrator@stnicholasmarston.org.
 uk) by the Monday of the same week at the latest\, passing on any dietary 
 requirements. We look forward to seeing you.
LOCATION:Church Hall
URL:https://stnicholasmarston.org.uk/lunch-club/
END:VEVENT
BEGIN:VEVENT
SUMMARY:Lunch Club
DTSTART;TZID=Europe/London:20270326T123000
DTEND;TZID=Europe/London:20270326T133000
DTSTAMP:20260421T014449Z
UID:8709782027-03-26 12:30:00+00:00achurchnearyou
CATEGORIES:
DESCRIPTION:Our all age lunch club is a new regular event that started in 
 2022. This is open to local people and takes place on the the last Friday 
 of each month from 12:30. The food is home made by Jackie (a qualified and
  experienced caterer) and her team. The venue is the church hall in Elsfie
 ld Road. The meal is a two-course meal\, including a vegetarian option and
  jacket potatoes.  Come with ideas for a name\, games\, music and to make
  new friends. The cost is a £4.00 donation. To make a booking please cont
 act our administrator (01865-580354\, administrator@stnicholasmarston.org.
 uk) by the Monday of the same week at the latest\, passing on any dietary 
 requirements. We look forward to seeing you.
LOCATION:Church Hall
URL:https://stnicholasmarston.org.uk/lunch-club/
END:VEVENT
END:VCALENDAR
