BEGIN:VCALENDAR
VERSION:2.0
PRODID:-//achurchnearyou.com//eventfeed//EN
CALSCALE:GREGORIAN
METHOD:PUBLISH
X-WR-TIMEZONE:UTC
BEGIN:VEVENT
SUMMARY:Family Fun for Easter
DTSTART:20250420T090000Z
DTEND:20250420T100000Z
DTSTAMP:20260419T200424Z
UID:11592792025-04-20 09:00:00+00:00achurchnearyou
CATEGORIES:
DESCRIPTION:An all age and family fun service to celebrate Easter
GEO:-2.514512;52.283966
LOCATION:St Michael & All Angels\, Hanley Childe
URL:https://www.achurchnearyou.com/church/18821/service-and-events/events/
 1159279/
END:VEVENT
END:VCALENDAR
