BEGIN:VCALENDAR
VERSION:2.0
PRODID:-//achurchnearyou.com//eventfeed//EN
CALSCALE:GREGORIAN
METHOD:PUBLISH
X-WR-TIMEZONE:UTC
BEGIN:VEVENT
SUMMARY:Family Service
DTSTART:20250309T103000Z
DTEND:20250309T113000Z
DTSTAMP:20260420T232701Z
UID:11614222025-03-09 10:30:00+00:00achurchnearyou
CATEGORIES:
DESCRIPTION:Sun 09 Mar 2025	Family Service @ HTAM joint with All Saints	10
 :30	"Michael preaching. \nJenny leading. "
GEO:-1.097756;53.905234
LOCATION:Holy Trinity
URL:https://www.achurchnearyou.com/church/18846/service-and-events/events/
 1161422/
END:VEVENT
END:VCALENDAR
