BEGIN:VCALENDAR
VERSION:2.0
PRODID:-//achurchnearyou.com//eventfeed//EN
CALSCALE:GREGORIAN
METHOD:PUBLISH
X-WR-TIMEZONE:UTC
BEGIN:VEVENT
SUMMARY:Holy Communion\, joint ABCs and AAA churches.
DTSTART:20250629T093000Z
DTEND:20250629T103000Z
DTSTAMP:20260420T153906Z
UID:11955272025-06-29 09:30:00+00:00achurchnearyou
CATEGORIES:
DESCRIPTION:5th Sunday of the month	Sun 29 Jun 2025	Second Sunday after Tr
 inity\,   Holy Communion\,   @ All Saint\, Bolton Percy. \nJoint ABCs and 
 AAAs churches.	10:30
LOCATION:All Saints'\, Bolton Percy
URL:https://www.achurchnearyou.com/church/18846/service-and-events/events/
 1195527/
END:VEVENT
END:VCALENDAR
