BEGIN:VCALENDAR
VERSION:2.0
PRODID:-//achurchnearyou.com//eventfeed//EN
CALSCALE:GREGORIAN
METHOD:PUBLISH
X-WR-TIMEZONE:UTC
BEGIN:VEVENT
SUMMARY:Carol Service with refreshments
DTSTART:20251218T190000Z
DTEND:20251218T200000Z
DTSTAMP:20260420T093708Z
UID:12423872025-12-18 19:00:00+00:00achurchnearyou
CATEGORIES:
DESCRIPTION:18th Dec 2025 at 19:00
GEO:-1.097756;53.905234
LOCATION:Holy Trinity
URL:https://www.achurchnearyou.com/church/18846/service-and-events/events/
 1242387/
END:VEVENT
END:VCALENDAR
