BEGIN:VCALENDAR
VERSION:2.0
PRODID:-//achurchnearyou.com//eventfeed//EN
CALSCALE:GREGORIAN
METHOD:PUBLISH
X-WR-TIMEZONE:UTC
BEGIN:VEVENT
SUMMARY:Eucharist
DTSTART:20250601T090000Z
DTEND:20250601T100000Z
DTSTAMP:20260422T090425Z
UID:11991172025-06-01 09:00:00+00:00achurchnearyou
CATEGORIES:
DESCRIPTION:Service with Holy Communion
LOCATION:All Saints\, Wighill
URL:https://www.achurchnearyou.com/church/18857/service-and-events/events/
 1199117/
END:VEVENT
END:VCALENDAR
