BEGIN:VCALENDAR
VERSION:2.0
PRODID:-//achurchnearyou.com//eventfeed//EN
CALSCALE:GREGORIAN
METHOD:PUBLISH
X-WR-TIMEZONE:UTC
BEGIN:VEVENT
SUMMARY:Morning worship
DTSTART:20250713T090000Z
DTEND:20250713T100000Z
DTSTAMP:20260422T065710Z
UID:12045862025-07-13 09:00:00+00:00achurchnearyou
CATEGORIES:
DESCRIPTION:All Age worship
LOCATION:All Saints'\, Moor Monkton
URL:https://www.achurchnearyou.com/church/18857/service-and-events/events/
 1204586/
END:VEVENT
END:VCALENDAR
