BEGIN:VCALENDAR
VERSION:2.0
PRODID:-//achurchnearyou.com//eventfeed//EN
CALSCALE:GREGORIAN
METHOD:PUBLISH
X-WR-TIMEZONE:UTC
BEGIN:VEVENT
SUMMARY:HOLY COMMUNION
DTSTART:20250126T110000Z
DTEND:20250126T120000Z
DTSTAMP:20260426T014338Z
UID:11190782025-01-26 11:00:00+00:00achurchnearyou
CATEGORIES:
DESCRIPTION:Join us for a family friendly Holy Communion service.
GEO:1.5854364600830273;52.186176427595484
LOCATION:Aldringham\, St Andrew
URL:https://www.achurchnearyou.com/church/1886/service-and-events/events/1
 119078/
END:VEVENT
END:VCALENDAR
