BEGIN:VCALENDAR
VERSION:2.0
PRODID:-//achurchnearyou.com//eventfeed//EN
CALSCALE:GREGORIAN
METHOD:PUBLISH
X-WR-TIMEZONE:UTC
BEGIN:VEVENT
SUMMARY:SERVICE OF THE WORD
DTSTART:20250316T110000Z
DTEND:20250316T120000Z
DTSTAMP:20260425T203650Z
UID:11195532025-03-16 11:00:00+00:00achurchnearyou
CATEGORIES:
DESCRIPTION:Join us for a family friendly Service of the Word.
GEO:1.5854364600830273;52.186176427595484
LOCATION:Aldringham\, St Andrew
URL:https://www.achurchnearyou.com/church/1886/service-and-events/events/1
 119553/
END:VEVENT
END:VCALENDAR
