BEGIN:VCALENDAR
VERSION:2.0
PRODID:-//achurchnearyou.com//eventfeed//EN
CALSCALE:GREGORIAN
METHOD:PUBLISH
X-WR-TIMEZONE:UTC
BEGIN:VEVENT
SUMMARY:FAMILY SERVICE
DTSTART:20250525T100000Z
DTEND:20250525T110000Z
DTSTAMP:20260425T202907Z
UID:11628572025-05-25 10:00:00+00:00achurchnearyou
CATEGORIES:
DESCRIPTION:Join us for a family friendly Morning Service.
GEO:1.5854364600830273;52.186176427595484
LOCATION:Aldringham\, St Andrew
URL:https://www.achurchnearyou.com/church/1886/service-and-events/events/1
 162857/
END:VEVENT
END:VCALENDAR
