BEGIN:VCALENDAR
VERSION:2.0
PRODID:-//achurchnearyou.com//eventfeed//EN
CALSCALE:GREGORIAN
METHOD:PUBLISH
X-WR-TIMEZONE:UTC
BEGIN:VEVENT
SUMMARY:EVENSONG
DTSTART:20250615T160000Z
DTEND:20250615T170000Z
DTSTAMP:20260425T173505Z
UID:12058362025-06-15 16:00:00+00:00achurchnearyou
CATEGORIES:
DESCRIPTION:Join us for a traditional Evensong service followed by refresh
 ments in the churchyard.
GEO:1.5854364600830273;52.186176427595484
LOCATION:Aldringham\, St Andrew
URL:https://www.achurchnearyou.com/church/1886/service-and-events/events/1
 205836/
END:VEVENT
END:VCALENDAR
