BEGIN:VCALENDAR
VERSION:2.0
PRODID:-//achurchnearyou.com//eventfeed//EN
CALSCALE:GREGORIAN
METHOD:PUBLISH
X-WR-TIMEZONE:UTC
BEGIN:VEVENT
SUMMARY:Service of the Word with Baptism led by Revd Mary Brown
DTSTART:20250810T100000Z
DTEND:20250810T110000Z
DTSTAMP:20260425T124517Z
UID:12134202025-08-10 10:00:00+00:00achurchnearyou
CATEGORIES:
DESCRIPTION:Sunday 10th August at 11am - Eighth Sunday of Trinity
GEO:1.5854364600830273;52.186176427595484
LOCATION:Aldringham\, St Andrew
URL:https://www.achurchnearyou.com/church/1886/service-and-events/events/1
 213420/
END:VEVENT
END:VCALENDAR
