BEGIN:VCALENDAR
VERSION:2.0
PRODID:-//achurchnearyou.com//eventfeed//EN
CALSCALE:GREGORIAN
METHOD:PUBLISH
X-WR-TIMEZONE:UTC
BEGIN:VEVENT
SUMMARY:Patronal Festival - St Andrew with Revd Mary Brown
DTSTART:20251113T180000Z
DTEND:20251113T190000Z
DTSTAMP:20260425T044431Z
UID:12283572025-11-13 18:00:00+00:00achurchnearyou
CATEGORIES:
DESCRIPTION:Thursday 20th November
GEO:1.5854364600830273;52.186176427595484
LOCATION:Aldringham\, St Andrew
URL:https://www.achurchnearyou.com/church/1886/service-and-events/events/1
 228357/
END:VEVENT
END:VCALENDAR
