BEGIN:VCALENDAR
VERSION:2.0
PRODID:-//achurchnearyou.com//eventfeed//EN
CALSCALE:GREGORIAN
METHOD:PUBLISH
X-WR-TIMEZONE:UTC
BEGIN:VEVENT
SUMMARY:Service of the Word
DTSTART:20260118T110000Z
DTEND:20260118T120000Z
DTSTAMP:20260424T192741Z
UID:12663332026-01-18 11:00:00+00:00achurchnearyou
CATEGORIES:
DESCRIPTION:Sunday 18th January - Second Sunday of Epiphany
GEO:1.5854364600830273;52.186176427595484
LOCATION:Aldringham\, St Andrew
URL:https://www.achurchnearyou.com/church/1886/service-and-events/events/1
 266333/
END:VEVENT
END:VCALENDAR
