BEGIN:VCALENDAR
VERSION:2.0
PRODID:-//achurchnearyou.com//eventfeed//EN
CALSCALE:GREGORIAN
METHOD:PUBLISH
X-WR-TIMEZONE:UTC
BEGIN:VEVENT
SUMMARY:Holy Communion Service with The Very Revd Christopher Lewis
DTSTART:20260412T100000Z
DTEND:20260412T110000Z
DTSTAMP:20260424T142202Z
UID:13025212026-04-12 10:00:00+00:00achurchnearyou
CATEGORIES:
DESCRIPTION:Sunday 12th April - Second Sunday of Easter
GEO:1.5854364600830273;52.186176427595484
LOCATION:Aldringham\, St Andrew
URL:https://www.achurchnearyou.com/church/1886/service-and-events/events/1
 302521/
END:VEVENT
END:VCALENDAR
