BEGIN:VCALENDAR
VERSION:2.0
PRODID:-//achurchnearyou.com//eventfeed//EN
CALSCALE:GREGORIAN
METHOD:PUBLISH
X-WR-TIMEZONE:UTC
BEGIN:VEVENT
SUMMARY:Morning worship
DTSTART:20250907T090000Z
DTEND:20250907T100000Z
DTSTAMP:20260422T031042Z
UID:12192522025-09-07 09:00:00+00:00achurchnearyou
CATEGORIES:
DESCRIPTION:Morning service
LOCATION:All Saints\, Wighill
URL:https://www.achurchnearyou.com/church/18860/service-and-events/events/
 1219252/
END:VEVENT
END:VCALENDAR
