BEGIN:VCALENDAR
VERSION:2.0
PRODID:-//achurchnearyou.com//eventfeed//EN
CALSCALE:GREGORIAN
METHOD:PUBLISH
X-WR-TIMEZONE:UTC
BEGIN:VEVENT
SUMMARY:Morning worship
DTSTART:20251116T100000Z
DTEND:20251116T110000Z
DTSTAMP:20260421T214151Z
UID:12362612025-11-16 10:00:00+00:00achurchnearyou
CATEGORIES:
DESCRIPTION:All age worship
LOCATION:St John the Baptist\, Hessay
URL:https://www.achurchnearyou.com/church/18864/service-and-events/events/
 1236261/
END:VEVENT
END:VCALENDAR
