BEGIN:VCALENDAR
VERSION:2.0
PRODID:-//achurchnearyou.com//eventfeed//EN
CALSCALE:GREGORIAN
METHOD:PUBLISH
X-WR-TIMEZONE:UTC
BEGIN:VEVENT
SUMMARY:Christmas Communion
DTSTART:20251225T103000Z
DTEND:20251225T113000Z
DTSTAMP:20260419T182731Z
UID:12744412025-12-25 10:30:00+00:00achurchnearyou
CATEGORIES:
DESCRIPTION:All age service of communion to celebrate together on Christma
 s Day.
GEO:-1.19736;54.123576
LOCATION:St. John the Baptist & All Saints\, Easingwold
URL:https://www.achurchnearyou.com/church/18884/service-and-events/events/
 1274441/
END:VEVENT
END:VCALENDAR
