BEGIN:VCALENDAR
VERSION:2.0
PRODID:-//achurchnearyou.com//eventfeed//EN
CALSCALE:GREGORIAN
METHOD:PUBLISH
X-WR-TIMEZONE:UTC
BEGIN:VEVENT
SUMMARY:Worship for All
DTSTART:20251026T103000Z
DTEND:20251026T111500Z
DTSTAMP:20260422T151044Z
UID:12341922025-10-26 10:30:00+00:00achurchnearyou
CATEGORIES:
DESCRIPTION:Our monthly lay-led service to which all are welcome.  If you 
 are visiting or in the vicinity please do come and meet us at this flexibl
 e and informal service.  Families with young children of all ages are espe
 cially welcome - and don't worry if your child makes a noise - it doesn't 
 worry us!
GEO:-1.207616;54.169192
LOCATION:St Nicholas - Husthwaite
URL:https://www.achurchnearyou.com/church/18886/service-and-events/events/
 1234192/
END:VEVENT
END:VCALENDAR
