BEGIN:VCALENDAR
VERSION:2.0
PRODID:-//achurchnearyou.com//eventfeed//EN
CALSCALE:GREGORIAN
METHOD:PUBLISH
X-WR-TIMEZONE:UTC
BEGIN:VEVENT
SUMMARY:Holy Communion
DTSTART:20260208T103000Z
DTEND:20260208T113000Z
DTSTAMP:20260422T091419Z
UID:12890402026-02-08 10:30:00+00:00achurchnearyou
CATEGORIES:
DESCRIPTION:All are very welcome to join us at our monthly service of Holy
  Communion.  Do stay afterwards for refreshments for a chance to chat - es
 pecially to newcomers to the Church and Village.
GEO:-1.207616;54.169192
LOCATION:St Nicholas - Husthwaite
URL:https://www.achurchnearyou.com/church/18886/service-and-events/events/
 1289040/
END:VEVENT
END:VCALENDAR
