BEGIN:VCALENDAR
VERSION:2.0
PRODID:-//achurchnearyou.com//eventfeed//EN
CALSCALE:GREGORIAN
METHOD:PUBLISH
X-WR-TIMEZONE:UTC
BEGIN:VEVENT
SUMMARY:Evening Prayer
DTSTART:20260401T170000Z
DTEND:20260401T174500Z
DTSTAMP:20260422T052220Z
UID:13050942026-04-01 17:00:00+00:00achurchnearyou
CATEGORIES:
DESCRIPTION:An opportunity for quiet reflection on the events of that firs
 t Good Friday leading up to the Crucifixion but mixed with with our joy in
  the knowledge of the approaching Resurrection at Easter.
GEO:-1.207616;54.169192
LOCATION:St Nicholas - Husthwaite
URL:https://www.achurchnearyou.com/church/18886/service-and-events/events/
 1305094/
END:VEVENT
END:VCALENDAR
