BEGIN:VCALENDAR
VERSION:2.0
PRODID:-//achurchnearyou.com//eventfeed//EN
CALSCALE:GREGORIAN
METHOD:PUBLISH
X-WR-TIMEZONE:UTC
BEGIN:VEVENT
SUMMARY:Linton Summer Concert in Aid of All Saints' Blesséd Relief Toilet
  Project
DTSTART:20250707T180000Z
DTEND:20250707T200000Z
DTSTAMP:20260424T051354Z
UID:12093372025-07-07 18:00:00+00:00achurchnearyou
CATEGORIES:
DESCRIPTION:Join us for a Summer evening filled with music with the Alne S
 ingers and guest accompanist Chris Lloyd who will also be performing jazz 
 classics.\nWe will have a Summer raffle and lots of refreshments! There ma
 y also be a surprise opening number performed by the amazing young singers
  from Linton Primary School and Nursery.\nEntrance in free of charge but w
 e ask for any donation you are happy to make towards the build of a much n
 eeded toilet for our local church.\nTo reserve a seat and help us with num
 bers for catering\, please contact Stephanie Howe on 07885 616747.
LOCATION:Linton on Ouse Village Hall
URL:https://www.achurchnearyou.com/church/18890/service-and-events/events/
 1209337/
END:VEVENT
END:VCALENDAR
