BEGIN:VCALENDAR
VERSION:2.0
PRODID:-//achurchnearyou.com//eventfeed//EN
CALSCALE:GREGORIAN
METHOD:PUBLISH
X-WR-TIMEZONE:UTC
BEGIN:VEVENT
SUMMARY:Palm Sunday Communion
DTSTART:20250413T083000Z
DTEND:20250413T093000Z
DTSTAMP:20260419T143426Z
UID:11746932025-04-13 08:30:00+00:00achurchnearyou
CATEGORIES:
DESCRIPTION:Join us as we retell the story of  Jesus' entrance into Jerusa
 lem
GEO:-1.13425;54.001861
LOCATION:St Giles' Church
URL:https://www.achurchnearyou.com/church/18894/service-and-events/events/
 1174693/
END:VEVENT
END:VCALENDAR
