BEGIN:VCALENDAR
VERSION:2.0
PRODID:-//achurchnearyou.com//eventfeed//EN
CALSCALE:GREGORIAN
METHOD:PUBLISH
X-WR-TIMEZONE:UTC
BEGIN:VEVENT
SUMMARY:Coffee morning
DTSTART;TZID=Europe/London:20260521T100000
DTEND;TZID=Europe/London:20260521T120000
DTSTAMP:20260420T055058Z
UID:5466842026-05-21 10:00:00+01:00achurchnearyou
CATEGORIES:
DESCRIPTION:Drop in and enjoy coffee\, cakes and chat.
LOCATION:Thorganby Village Hall
URL:https://www.achurchnearyou.com/church/18917/service-and-events/events/
 546684/
END:VEVENT
BEGIN:VEVENT
SUMMARY:Coffee morning
DTSTART;TZID=Europe/London:20260618T100000
DTEND;TZID=Europe/London:20260618T120000
DTSTAMP:20260420T055058Z
UID:5466842026-06-18 10:00:00+01:00achurchnearyou
CATEGORIES:
DESCRIPTION:Drop in and enjoy coffee\, cakes and chat.
LOCATION:Thorganby Village Hall
URL:https://www.achurchnearyou.com/church/18917/service-and-events/events/
 546684/
END:VEVENT
BEGIN:VEVENT
SUMMARY:Coffee morning
DTSTART;TZID=Europe/London:20260716T100000
DTEND;TZID=Europe/London:20260716T120000
DTSTAMP:20260420T055058Z
UID:5466842026-07-16 10:00:00+01:00achurchnearyou
CATEGORIES:
DESCRIPTION:Drop in and enjoy coffee\, cakes and chat.
LOCATION:Thorganby Village Hall
URL:https://www.achurchnearyou.com/church/18917/service-and-events/events/
 546684/
END:VEVENT
BEGIN:VEVENT
SUMMARY:Coffee morning
DTSTART;TZID=Europe/London:20260820T100000
DTEND;TZID=Europe/London:20260820T120000
DTSTAMP:20260420T055058Z
UID:5466842026-08-20 10:00:00+01:00achurchnearyou
CATEGORIES:
DESCRIPTION:Drop in and enjoy coffee\, cakes and chat.
LOCATION:Thorganby Village Hall
URL:https://www.achurchnearyou.com/church/18917/service-and-events/events/
 546684/
END:VEVENT
BEGIN:VEVENT
SUMMARY:Coffee morning
DTSTART;TZID=Europe/London:20260917T100000
DTEND;TZID=Europe/London:20260917T120000
DTSTAMP:20260420T055058Z
UID:5466842026-09-17 10:00:00+01:00achurchnearyou
CATEGORIES:
DESCRIPTION:Drop in and enjoy coffee\, cakes and chat.
LOCATION:Thorganby Village Hall
URL:https://www.achurchnearyou.com/church/18917/service-and-events/events/
 546684/
END:VEVENT
BEGIN:VEVENT
SUMMARY:Coffee morning
DTSTART;TZID=Europe/London:20261015T100000
DTEND;TZID=Europe/London:20261015T120000
DTSTAMP:20260420T055058Z
UID:5466842026-10-15 10:00:00+01:00achurchnearyou
CATEGORIES:
DESCRIPTION:Drop in and enjoy coffee\, cakes and chat.
LOCATION:Thorganby Village Hall
URL:https://www.achurchnearyou.com/church/18917/service-and-events/events/
 546684/
END:VEVENT
BEGIN:VEVENT
SUMMARY:Coffee morning
DTSTART;TZID=Europe/London:20261119T100000
DTEND;TZID=Europe/London:20261119T120000
DTSTAMP:20260420T055058Z
UID:5466842026-11-19 10:00:00+00:00achurchnearyou
CATEGORIES:
DESCRIPTION:Drop in and enjoy coffee\, cakes and chat.
LOCATION:Thorganby Village Hall
URL:https://www.achurchnearyou.com/church/18917/service-and-events/events/
 546684/
END:VEVENT
BEGIN:VEVENT
SUMMARY:Coffee morning
DTSTART;TZID=Europe/London:20261217T100000
DTEND;TZID=Europe/London:20261217T120000
DTSTAMP:20260420T055058Z
UID:5466842026-12-17 10:00:00+00:00achurchnearyou
CATEGORIES:
DESCRIPTION:Drop in and enjoy coffee\, cakes and chat.
LOCATION:Thorganby Village Hall
URL:https://www.achurchnearyou.com/church/18917/service-and-events/events/
 546684/
END:VEVENT
BEGIN:VEVENT
SUMMARY:Coffee morning
DTSTART;TZID=Europe/London:20270121T100000
DTEND;TZID=Europe/London:20270121T120000
DTSTAMP:20260420T055058Z
UID:5466842027-01-21 10:00:00+00:00achurchnearyou
CATEGORIES:
DESCRIPTION:Drop in and enjoy coffee\, cakes and chat.
LOCATION:Thorganby Village Hall
URL:https://www.achurchnearyou.com/church/18917/service-and-events/events/
 546684/
END:VEVENT
BEGIN:VEVENT
SUMMARY:Coffee morning
DTSTART;TZID=Europe/London:20270218T100000
DTEND;TZID=Europe/London:20270218T120000
DTSTAMP:20260420T055058Z
UID:5466842027-02-18 10:00:00+00:00achurchnearyou
CATEGORIES:
DESCRIPTION:Drop in and enjoy coffee\, cakes and chat.
LOCATION:Thorganby Village Hall
URL:https://www.achurchnearyou.com/church/18917/service-and-events/events/
 546684/
END:VEVENT
BEGIN:VEVENT
SUMMARY:Coffee morning
DTSTART;TZID=Europe/London:20270318T100000
DTEND;TZID=Europe/London:20270318T120000
DTSTAMP:20260420T055058Z
UID:5466842027-03-18 10:00:00+00:00achurchnearyou
CATEGORIES:
DESCRIPTION:Drop in and enjoy coffee\, cakes and chat.
LOCATION:Thorganby Village Hall
URL:https://www.achurchnearyou.com/church/18917/service-and-events/events/
 546684/
END:VEVENT
BEGIN:VEVENT
SUMMARY:Coffee morning
DTSTART;TZID=Europe/London:20270415T100000
DTEND;TZID=Europe/London:20270415T120000
DTSTAMP:20260420T055058Z
UID:5466842027-04-15 10:00:00+01:00achurchnearyou
CATEGORIES:
DESCRIPTION:Drop in and enjoy coffee\, cakes and chat.
LOCATION:Thorganby Village Hall
URL:https://www.achurchnearyou.com/church/18917/service-and-events/events/
 546684/
END:VEVENT
END:VCALENDAR
