BEGIN:VCALENDAR
VERSION:2.0
PRODID:-//achurchnearyou.com//eventfeed//EN
CALSCALE:GREGORIAN
METHOD:PUBLISH
X-WR-TIMEZONE:UTC
BEGIN:VEVENT
SUMMARY:Tea and Coffee Morning
DTSTART;TZID=Europe/London:20260518T103000
DTEND;TZID=Europe/London:20260518T120000
DTSTAMP:20260423T134014Z
UID:8327432026-05-18 10:30:00+01:00achurchnearyou
CATEGORIES:
DESCRIPTION:Third Monday every month\, Tea\, Coffee and Cakes in Church.  
 Juice and Biscuits for children.  Everyone welcome.
GEO:-1.123266;53.833323
LOCATION:All Saints
URL:https://www.achurchnearyou.com/church/18925/service-and-events/events/
 832743/
END:VEVENT
BEGIN:VEVENT
SUMMARY:Tea and Coffee Morning
DTSTART;TZID=Europe/London:20260615T103000
DTEND;TZID=Europe/London:20260615T120000
DTSTAMP:20260423T134014Z
UID:8327432026-06-15 10:30:00+01:00achurchnearyou
CATEGORIES:
DESCRIPTION:Third Monday every month\, Tea\, Coffee and Cakes in Church.  
 Juice and Biscuits for children.  Everyone welcome.
GEO:-1.123266;53.833323
LOCATION:All Saints
URL:https://www.achurchnearyou.com/church/18925/service-and-events/events/
 832743/
END:VEVENT
BEGIN:VEVENT
SUMMARY:Tea and Coffee Morning
DTSTART;TZID=Europe/London:20260720T103000
DTEND;TZID=Europe/London:20260720T120000
DTSTAMP:20260423T134014Z
UID:8327432026-07-20 10:30:00+01:00achurchnearyou
CATEGORIES:
DESCRIPTION:Third Monday every month\, Tea\, Coffee and Cakes in Church.  
 Juice and Biscuits for children.  Everyone welcome.
GEO:-1.123266;53.833323
LOCATION:All Saints
URL:https://www.achurchnearyou.com/church/18925/service-and-events/events/
 832743/
END:VEVENT
BEGIN:VEVENT
SUMMARY:Tea and Coffee Morning
DTSTART;TZID=Europe/London:20260817T103000
DTEND;TZID=Europe/London:20260817T120000
DTSTAMP:20260423T134014Z
UID:8327432026-08-17 10:30:00+01:00achurchnearyou
CATEGORIES:
DESCRIPTION:Third Monday every month\, Tea\, Coffee and Cakes in Church.  
 Juice and Biscuits for children.  Everyone welcome.
GEO:-1.123266;53.833323
LOCATION:All Saints
URL:https://www.achurchnearyou.com/church/18925/service-and-events/events/
 832743/
END:VEVENT
BEGIN:VEVENT
SUMMARY:Tea and Coffee Morning
DTSTART;TZID=Europe/London:20260921T103000
DTEND;TZID=Europe/London:20260921T120000
DTSTAMP:20260423T134014Z
UID:8327432026-09-21 10:30:00+01:00achurchnearyou
CATEGORIES:
DESCRIPTION:Third Monday every month\, Tea\, Coffee and Cakes in Church.  
 Juice and Biscuits for children.  Everyone welcome.
GEO:-1.123266;53.833323
LOCATION:All Saints
URL:https://www.achurchnearyou.com/church/18925/service-and-events/events/
 832743/
END:VEVENT
BEGIN:VEVENT
SUMMARY:Tea and Coffee Morning
DTSTART;TZID=Europe/London:20261019T103000
DTEND;TZID=Europe/London:20261019T120000
DTSTAMP:20260423T134014Z
UID:8327432026-10-19 10:30:00+01:00achurchnearyou
CATEGORIES:
DESCRIPTION:Third Monday every month\, Tea\, Coffee and Cakes in Church.  
 Juice and Biscuits for children.  Everyone welcome.
GEO:-1.123266;53.833323
LOCATION:All Saints
URL:https://www.achurchnearyou.com/church/18925/service-and-events/events/
 832743/
END:VEVENT
BEGIN:VEVENT
SUMMARY:Tea and Coffee Morning
DTSTART;TZID=Europe/London:20261116T103000
DTEND;TZID=Europe/London:20261116T120000
DTSTAMP:20260423T134014Z
UID:8327432026-11-16 10:30:00+00:00achurchnearyou
CATEGORIES:
DESCRIPTION:Third Monday every month\, Tea\, Coffee and Cakes in Church.  
 Juice and Biscuits for children.  Everyone welcome.
GEO:-1.123266;53.833323
LOCATION:All Saints
URL:https://www.achurchnearyou.com/church/18925/service-and-events/events/
 832743/
END:VEVENT
BEGIN:VEVENT
SUMMARY:Tea and Coffee Morning
DTSTART;TZID=Europe/London:20261221T103000
DTEND;TZID=Europe/London:20261221T120000
DTSTAMP:20260423T134014Z
UID:8327432026-12-21 10:30:00+00:00achurchnearyou
CATEGORIES:
DESCRIPTION:Third Monday every month\, Tea\, Coffee and Cakes in Church.  
 Juice and Biscuits for children.  Everyone welcome.
GEO:-1.123266;53.833323
LOCATION:All Saints
URL:https://www.achurchnearyou.com/church/18925/service-and-events/events/
 832743/
END:VEVENT
BEGIN:VEVENT
SUMMARY:Tea and Coffee Morning
DTSTART;TZID=Europe/London:20270118T103000
DTEND;TZID=Europe/London:20270118T120000
DTSTAMP:20260423T134014Z
UID:8327432027-01-18 10:30:00+00:00achurchnearyou
CATEGORIES:
DESCRIPTION:Third Monday every month\, Tea\, Coffee and Cakes in Church.  
 Juice and Biscuits for children.  Everyone welcome.
GEO:-1.123266;53.833323
LOCATION:All Saints
URL:https://www.achurchnearyou.com/church/18925/service-and-events/events/
 832743/
END:VEVENT
BEGIN:VEVENT
SUMMARY:Tea and Coffee Morning
DTSTART;TZID=Europe/London:20270215T103000
DTEND;TZID=Europe/London:20270215T120000
DTSTAMP:20260423T134014Z
UID:8327432027-02-15 10:30:00+00:00achurchnearyou
CATEGORIES:
DESCRIPTION:Third Monday every month\, Tea\, Coffee and Cakes in Church.  
 Juice and Biscuits for children.  Everyone welcome.
GEO:-1.123266;53.833323
LOCATION:All Saints
URL:https://www.achurchnearyou.com/church/18925/service-and-events/events/
 832743/
END:VEVENT
BEGIN:VEVENT
SUMMARY:Tea and Coffee Morning
DTSTART;TZID=Europe/London:20270315T103000
DTEND;TZID=Europe/London:20270315T120000
DTSTAMP:20260423T134014Z
UID:8327432027-03-15 10:30:00+00:00achurchnearyou
CATEGORIES:
DESCRIPTION:Third Monday every month\, Tea\, Coffee and Cakes in Church.  
 Juice and Biscuits for children.  Everyone welcome.
GEO:-1.123266;53.833323
LOCATION:All Saints
URL:https://www.achurchnearyou.com/church/18925/service-and-events/events/
 832743/
END:VEVENT
BEGIN:VEVENT
SUMMARY:Tea and Coffee Morning
DTSTART;TZID=Europe/London:20270419T103000
DTEND;TZID=Europe/London:20270419T120000
DTSTAMP:20260423T134014Z
UID:8327432027-04-19 10:30:00+01:00achurchnearyou
CATEGORIES:
DESCRIPTION:Third Monday every month\, Tea\, Coffee and Cakes in Church.  
 Juice and Biscuits for children.  Everyone welcome.
GEO:-1.123266;53.833323
LOCATION:All Saints
URL:https://www.achurchnearyou.com/church/18925/service-and-events/events/
 832743/
END:VEVENT
END:VCALENDAR
