BEGIN:VCALENDAR
VERSION:2.0
PRODID:-//achurchnearyou.com//eventfeed//EN
CALSCALE:GREGORIAN
METHOD:PUBLISH
X-WR-TIMEZONE:UTC
BEGIN:VEVENT
SUMMARY:Morning Prayer online
DTSTART:20250417T083000Z
DTEND:20250417T090000Z
DTSTAMP:20260425T184843Z
UID:11917972025-04-17 08:30:00+00:00achurchnearyou
CATEGORIES:
DESCRIPTION:Morning prayer for Holy Week
LOCATION:Online
URL:https://www.achurchnearyou.com/church/18964/service-and-events/events/
 1191797/
END:VEVENT
END:VCALENDAR
