BEGIN:VCALENDAR
VERSION:2.0
PRODID:-//achurchnearyou.com//eventfeed//EN
CALSCALE:GREGORIAN
METHOD:PUBLISH
X-WR-TIMEZONE:UTC
BEGIN:VEVENT
SUMMARY:Read Mark Learn
DTSTART;TZID=Europe/London:20260107T190000
DTEND;TZID=Europe/London:20260107T200000
DTSTAMP:20260424T051356Z
UID:12793892026-01-07 19:00:00+00:00achurchnearyou
CATEGORIES:
DESCRIPTION:Read Mark Learn (RML) is a way for people to engage together w
 ith the story of Jesus as told in the Gospel of Mark.\n\nYour questions ar
 e what drive RML. There is no such thing as a stupid question. There is no
  RML book of answers either because the point of RML is to find answers to
 gether.
LOCATION:St Andrew's Church
URL:https://www.achurchnearyou.com/church/18964/service-and-events/events/
 1279389/
END:VEVENT
BEGIN:VEVENT
SUMMARY:Read Mark Learn
DTSTART;TZID=Europe/London:20260114T190000
DTEND;TZID=Europe/London:20260114T200000
DTSTAMP:20260424T051356Z
UID:12793892026-01-14 19:00:00+00:00achurchnearyou
CATEGORIES:
DESCRIPTION:Read Mark Learn (RML) is a way for people to engage together w
 ith the story of Jesus as told in the Gospel of Mark.\n\nYour questions ar
 e what drive RML. There is no such thing as a stupid question. There is no
  RML book of answers either because the point of RML is to find answers to
 gether.
LOCATION:St Andrew's Church
URL:https://www.achurchnearyou.com/church/18964/service-and-events/events/
 1279389/
END:VEVENT
BEGIN:VEVENT
SUMMARY:Read Mark Learn
DTSTART;TZID=Europe/London:20260121T190000
DTEND;TZID=Europe/London:20260121T200000
DTSTAMP:20260424T051356Z
UID:12793892026-01-21 19:00:00+00:00achurchnearyou
CATEGORIES:
DESCRIPTION:Read Mark Learn (RML) is a way for people to engage together w
 ith the story of Jesus as told in the Gospel of Mark.\n\nYour questions ar
 e what drive RML. There is no such thing as a stupid question. There is no
  RML book of answers either because the point of RML is to find answers to
 gether.
LOCATION:St Andrew's Church
URL:https://www.achurchnearyou.com/church/18964/service-and-events/events/
 1279389/
END:VEVENT
BEGIN:VEVENT
SUMMARY:Read Mark Learn
DTSTART;TZID=Europe/London:20260128T190000
DTEND;TZID=Europe/London:20260128T200000
DTSTAMP:20260424T051356Z
UID:12793892026-01-28 19:00:00+00:00achurchnearyou
CATEGORIES:
DESCRIPTION:Read Mark Learn (RML) is a way for people to engage together w
 ith the story of Jesus as told in the Gospel of Mark.\n\nYour questions ar
 e what drive RML. There is no such thing as a stupid question. There is no
  RML book of answers either because the point of RML is to find answers to
 gether.
LOCATION:St Andrew's Church
URL:https://www.achurchnearyou.com/church/18964/service-and-events/events/
 1279389/
END:VEVENT
BEGIN:VEVENT
SUMMARY:Read Mark Learn
DTSTART;TZID=Europe/London:20260204T190000
DTEND;TZID=Europe/London:20260204T200000
DTSTAMP:20260424T051356Z
UID:12793892026-02-04 19:00:00+00:00achurchnearyou
CATEGORIES:
DESCRIPTION:Read Mark Learn (RML) is a way for people to engage together w
 ith the story of Jesus as told in the Gospel of Mark.\n\nYour questions ar
 e what drive RML. There is no such thing as a stupid question. There is no
  RML book of answers either because the point of RML is to find answers to
 gether.
LOCATION:St Andrew's Church
URL:https://www.achurchnearyou.com/church/18964/service-and-events/events/
 1279389/
END:VEVENT
BEGIN:VEVENT
SUMMARY:Read Mark Learn
DTSTART;TZID=Europe/London:20260211T190000
DTEND;TZID=Europe/London:20260211T200000
DTSTAMP:20260424T051356Z
UID:12793892026-02-11 19:00:00+00:00achurchnearyou
CATEGORIES:
DESCRIPTION:Read Mark Learn (RML) is a way for people to engage together w
 ith the story of Jesus as told in the Gospel of Mark.\n\nYour questions ar
 e what drive RML. There is no such thing as a stupid question. There is no
  RML book of answers either because the point of RML is to find answers to
 gether.
LOCATION:St Andrew's Church
URL:https://www.achurchnearyou.com/church/18964/service-and-events/events/
 1279389/
END:VEVENT
END:VCALENDAR
